BEGIN:VCALENDAR
VERSION:2.0
PRODID:-//Creative Manitoba - ECPv6.15.18//NONSGML v1.0//EN
CALSCALE:GREGORIAN
METHOD:PUBLISH
X-WR-CALNAME:Creative Manitoba
X-ORIGINAL-URL:https://creativemanitoba.ca
X-WR-CALDESC:Events for Creative Manitoba
REFRESH-INTERVAL;VALUE=DURATION:PT1H
X-Robots-Tag:noindex
X-PUBLISHED-TTL:PT1H
BEGIN:VTIMEZONE
TZID:America/Winnipeg
BEGIN:DAYLIGHT
TZOFFSETFROM:-0600
TZOFFSETTO:-0500
TZNAME:CDT
DTSTART:20250309T080000
END:DAYLIGHT
BEGIN:STANDARD
TZOFFSETFROM:-0500
TZOFFSETTO:-0600
TZNAME:CST
DTSTART:20251102T070000
END:STANDARD
BEGIN:DAYLIGHT
TZOFFSETFROM:-0600
TZOFFSETTO:-0500
TZNAME:CDT
DTSTART:20260308T080000
END:DAYLIGHT
BEGIN:STANDARD
TZOFFSETFROM:-0500
TZOFFSETTO:-0600
TZNAME:CST
DTSTART:20261101T070000
END:STANDARD
BEGIN:DAYLIGHT
TZOFFSETFROM:-0600
TZOFFSETTO:-0500
TZNAME:CDT
DTSTART:20270314T080000
END:DAYLIGHT
BEGIN:STANDARD
TZOFFSETFROM:-0500
TZOFFSETTO:-0600
TZNAME:CST
DTSTART:20271107T070000
END:STANDARD
END:VTIMEZONE
BEGIN:VEVENT
DTSTART;TZID=America/Winnipeg:20261018T143000
DTEND;TZID=America/Winnipeg:20261018T151500
DTSTAMP:20260422T174237
CREATED:20260422T154641Z
LAST-MODIFIED:20260422T154641Z
UID:10003629-1792333800-1792336500@creativemanitoba.ca
SUMMARY:Baby Beats MCMA location-2:30 pm (fall)
DESCRIPTION:Baby Beats is a parented early childhood music program for babies 0-2 that focuses on musical foundations and social skill development. Babies gain fine and gross motor skills\, learn how to wait their turn\, discover tempo and rhythm by dancing and playing with scarves or body percussion\, match pitch and find joy in musical storytelling.
URL:https://creativemanitoba.ca/event/baby-beats-mcma-location-230-pm-fall/2026-10-18/
LOCATION:Manitoba Conservatory of Music & Arts\, 1B01\, Bryce Hall\, 515 Portage Avenue\, Winnipeg\, R3B 2E9\, Canada
CATEGORIES:Children,Classes,Community Events
ATTACH;FMTTYPE=image/jpeg:https://creativemanitoba.ca/wp-content/uploads/2026/04/IMG_7314_online.jpg
ORGANIZER;CN="Manitoba Conservatory of Music &amp%3B Arts":MAILTO:info@mcma.ca
END:VEVENT
END:VCALENDAR