BEGIN:VCALENDAR
VERSION:2.0
PRODID:-//Creative Manitoba - ECPv6.15.18//NONSGML v1.0//EN
CALSCALE:GREGORIAN
METHOD:PUBLISH
X-WR-CALNAME:Creative Manitoba
X-ORIGINAL-URL:https://creativemanitoba.ca
X-WR-CALDESC:Events for Creative Manitoba
REFRESH-INTERVAL;VALUE=DURATION:PT1H
X-Robots-Tag:noindex
X-PUBLISHED-TTL:PT1H
BEGIN:VTIMEZONE
TZID:America/Winnipeg
BEGIN:DAYLIGHT
TZOFFSETFROM:-0600
TZOFFSETTO:-0500
TZNAME:CDT
DTSTART:20250309T080000
END:DAYLIGHT
BEGIN:STANDARD
TZOFFSETFROM:-0500
TZOFFSETTO:-0600
TZNAME:CST
DTSTART:20251102T070000
END:STANDARD
BEGIN:DAYLIGHT
TZOFFSETFROM:-0600
TZOFFSETTO:-0500
TZNAME:CDT
DTSTART:20260308T080000
END:DAYLIGHT
BEGIN:STANDARD
TZOFFSETFROM:-0500
TZOFFSETTO:-0600
TZNAME:CST
DTSTART:20261101T070000
END:STANDARD
BEGIN:DAYLIGHT
TZOFFSETFROM:-0600
TZOFFSETTO:-0500
TZNAME:CDT
DTSTART:20270314T080000
END:DAYLIGHT
BEGIN:STANDARD
TZOFFSETFROM:-0500
TZOFFSETTO:-0600
TZNAME:CST
DTSTART:20271107T070000
END:STANDARD
END:VTIMEZONE
BEGIN:VEVENT
DTSTART;TZID=America/Winnipeg:20260502T100000
DTEND;TZID=America/Winnipeg:20260502T160000
DTSTAMP:20260422T045903
CREATED:20260421T195724Z
LAST-MODIFIED:20260421T195724Z
UID:41890-1777716000-1777737600@creativemanitoba.ca
SUMMARY:Engaging Visual Artists: Rights\, Needs and Futures with Patricia Bovey
DESCRIPTION:Let’s celebrate the 50 years of CARFAC Manitoba by focusing on the future of artists’ rights in Canada. Learn about your rights as an artist and who is fighting for them\, and how you can be a part of the change you want to see. Bovey will highlight the Artist’s Resale Right\, which was included in the last federal budget thanks to her lobbying work in partnership with CARFAC\, and BILL S-208\, An Act respecting the Declaration on the Essential Role of Artists and Creative Expression in Canada. \nFree and all welcome! Light lunch will be served.
URL:https://creativemanitoba.ca/event/engaging-visual-artists-rights-needs-and-futures-with-patricia-bovey/
LOCATION:MAWA – Mentoring Artists for Women’s Art\, 203 - 329 Cumberland Ave\, Winnipeg\, Manitoba\, R3B 1T2\, Canada
CATEGORIES:Classes & Workshops
ATTACH;FMTTYPE=image/png:https://creativemanitoba.ca/wp-content/uploads/2026/04/Portal-Event-Calendar-Images-5.png
END:VEVENT
END:VCALENDAR