BEGIN:VCALENDAR
VERSION:2.0
PRODID:-//Creative Manitoba - ECPv6.15.18//NONSGML v1.0//EN
CALSCALE:GREGORIAN
METHOD:PUBLISH
X-WR-CALNAME:Creative Manitoba
X-ORIGINAL-URL:https://creativemanitoba.ca
X-WR-CALDESC:Events for Creative Manitoba
REFRESH-INTERVAL;VALUE=DURATION:PT1H
X-Robots-Tag:noindex
X-PUBLISHED-TTL:PT1H
BEGIN:VTIMEZONE
TZID:America/Winnipeg
BEGIN:DAYLIGHT
TZOFFSETFROM:-0600
TZOFFSETTO:-0500
TZNAME:CDT
DTSTART:20250309T080000
END:DAYLIGHT
BEGIN:STANDARD
TZOFFSETFROM:-0500
TZOFFSETTO:-0600
TZNAME:CST
DTSTART:20251102T070000
END:STANDARD
BEGIN:DAYLIGHT
TZOFFSETFROM:-0600
TZOFFSETTO:-0500
TZNAME:CDT
DTSTART:20260308T080000
END:DAYLIGHT
BEGIN:STANDARD
TZOFFSETFROM:-0500
TZOFFSETTO:-0600
TZNAME:CST
DTSTART:20261101T070000
END:STANDARD
BEGIN:DAYLIGHT
TZOFFSETFROM:-0600
TZOFFSETTO:-0500
TZNAME:CDT
DTSTART:20270314T080000
END:DAYLIGHT
BEGIN:STANDARD
TZOFFSETFROM:-0500
TZOFFSETTO:-0600
TZNAME:CST
DTSTART:20271107T070000
END:STANDARD
END:VTIMEZONE
BEGIN:VEVENT
DTSTART;VALUE=DATE:20260507
DTEND;VALUE=DATE:20260511
DTSTAMP:20260421T033437
CREATED:20250904T032058Z
LAST-MODIFIED:20260210T185453Z
UID:34958-1778112000-1778457599@creativemanitoba.ca
SUMMARY:Miss Holmes – presented by Hood and Dagger Productions
DESCRIPTION:Join Miss Sherlock Holmes and Dr. Dorothy Watson as they work together to uncover the secrets surrounding a corrupt police inspector whose wives have a habit of turning up dead! These unconventional women\, trapped in an era that refuses to accept them\, must forge a bond of trust and work together through the dangers of 19th century London in this entertaining and delightfully fast-moving murder mystery. \nFree parking during show times! \nMiss Holmes\nby Christopher M. Walsh\nbased on characters by Sir Arthur Conan Doyle \nFive shows to choose from: \n\nThursday\, May 7 at 7:30pm\nFriday\, May 8 at 7:30pm\nSaturday\, May 9 at 2:00pm\nSaturday\, May 9 at 7:30pm\nSunday\, May 10 at 2:00pm
URL:https://creativemanitoba.ca/event/miss-holmes-presented-by-hood-and-dagger-productions/
CATEGORIES:Community Events,Live Performance
ATTACH;FMTTYPE=image/png:https://creativemanitoba.ca/wp-content/uploads/2025/09/Miss-Holmes-Poster.png
END:VEVENT
END:VCALENDAR