BEGIN:VCALENDAR
VERSION:2.0
PRODID:-//Creative Manitoba - ECPv6.15.18//NONSGML v1.0//EN
CALSCALE:GREGORIAN
METHOD:PUBLISH
X-WR-CALNAME:Creative Manitoba
X-ORIGINAL-URL:https://creativemanitoba.ca
X-WR-CALDESC:Events for Creative Manitoba
REFRESH-INTERVAL;VALUE=DURATION:PT1H
X-Robots-Tag:noindex
X-PUBLISHED-TTL:PT1H
BEGIN:VTIMEZONE
TZID:America/Winnipeg
BEGIN:DAYLIGHT
TZOFFSETFROM:-0600
TZOFFSETTO:-0500
TZNAME:CDT
DTSTART:20250309T080000
END:DAYLIGHT
BEGIN:STANDARD
TZOFFSETFROM:-0500
TZOFFSETTO:-0600
TZNAME:CST
DTSTART:20251102T070000
END:STANDARD
BEGIN:DAYLIGHT
TZOFFSETFROM:-0600
TZOFFSETTO:-0500
TZNAME:CDT
DTSTART:20260308T080000
END:DAYLIGHT
BEGIN:STANDARD
TZOFFSETFROM:-0500
TZOFFSETTO:-0600
TZNAME:CST
DTSTART:20261101T070000
END:STANDARD
BEGIN:DAYLIGHT
TZOFFSETFROM:-0600
TZOFFSETTO:-0500
TZNAME:CDT
DTSTART:20270314T080000
END:DAYLIGHT
BEGIN:STANDARD
TZOFFSETFROM:-0500
TZOFFSETTO:-0600
TZNAME:CST
DTSTART:20271107T070000
END:STANDARD
END:VTIMEZONE
BEGIN:VEVENT
DTSTART;TZID=America/Winnipeg:20260501T183000
DTEND;TZID=America/Winnipeg:20260501T213000
DTSTAMP:20260420T053116
CREATED:20260407T182325Z
LAST-MODIFIED:20260407T182325Z
UID:41604-1777660200-1777671000@creativemanitoba.ca
SUMMARY:Resonance: Voices & Visions Unfiltered
DESCRIPTION:A show featuring d/Deaf and disabled comedians\, actors\, dancers\, and other performers. Hosted by Arts AccessAbility Network Manitoba.\nJoin us on May 1\, 2026 at the Gas Station Arts Centre for Resonance: Voices & Visions Unfiltered. Witness the diverse talents of the disability arts community and support your local artists. \nThis show is generously supported by the Government of Canada through the Canadian Arts Presentation Fund. \nDoors open at 6:30pm and show starts at 7:00pm.\nGet your tickets here (pay what you can). \nThere will be a 15-minute break at 8:15pm. Show resumes at 8:30pm and will end at 9:30pm.\nPaid bar will begin at 6:30pm and close at 10:00pm. \nVisit the Gas Station Arts Centre website for accessibility info.
URL:https://creativemanitoba.ca/event/resonance-voices-visions-unfiltered/
LOCATION:Gas Station Arts Centre\, 445 River Avenue\, Winnipeg\, R3L0C9
CATEGORIES:Community Events
ATTACH;FMTTYPE=image/jpeg:https://creativemanitoba.ca/wp-content/uploads/2026/04/RESONANCE-FB-event-header.jpg
ORGANIZER;CN="Arts AccessAbility Network Manitoba":MAILTO:info@aanm.ca
END:VEVENT
END:VCALENDAR