BEGIN:VCALENDAR
VERSION:2.0
PRODID:-//Creative Manitoba - ECPv6.15.18//NONSGML v1.0//EN
CALSCALE:GREGORIAN
METHOD:PUBLISH
X-WR-CALNAME:Creative Manitoba
X-ORIGINAL-URL:https://creativemanitoba.ca
X-WR-CALDESC:Events for Creative Manitoba
REFRESH-INTERVAL;VALUE=DURATION:PT1H
X-Robots-Tag:noindex
X-PUBLISHED-TTL:PT1H
BEGIN:VTIMEZONE
TZID:America/Winnipeg
BEGIN:DAYLIGHT
TZOFFSETFROM:-0600
TZOFFSETTO:-0500
TZNAME:CDT
DTSTART:20250309T080000
END:DAYLIGHT
BEGIN:STANDARD
TZOFFSETFROM:-0500
TZOFFSETTO:-0600
TZNAME:CST
DTSTART:20251102T070000
END:STANDARD
BEGIN:DAYLIGHT
TZOFFSETFROM:-0600
TZOFFSETTO:-0500
TZNAME:CDT
DTSTART:20260308T080000
END:DAYLIGHT
BEGIN:STANDARD
TZOFFSETFROM:-0500
TZOFFSETTO:-0600
TZNAME:CST
DTSTART:20261101T070000
END:STANDARD
BEGIN:DAYLIGHT
TZOFFSETFROM:-0600
TZOFFSETTO:-0500
TZNAME:CDT
DTSTART:20270314T080000
END:DAYLIGHT
BEGIN:STANDARD
TZOFFSETFROM:-0500
TZOFFSETTO:-0600
TZNAME:CST
DTSTART:20271107T070000
END:STANDARD
BEGIN:DAYLIGHT
TZOFFSETFROM:-0600
TZOFFSETTO:-0500
TZNAME:CDT
DTSTART:20280312T080000
END:DAYLIGHT
BEGIN:STANDARD
TZOFFSETFROM:-0500
TZOFFSETTO:-0600
TZNAME:CST
DTSTART:20281105T070000
END:STANDARD
END:VTIMEZONE
BEGIN:VEVENT
DTSTART;TZID=America/Winnipeg:20260401T190000
DTEND;TZID=America/Winnipeg:20260429T203000
DTSTAMP:20260420T063520
CREATED:20260303T181341Z
LAST-MODIFIED:20260303T181341Z
UID:10003156-1775070000-1777494600@creativemanitoba.ca
SUMMARY:Shaping Light: Projection Mapping with MadMapper – Second Edition
DESCRIPTION:Shaping Light: Projection Mapping with MadMapper – Second Edition \nWorkshop Dates: April 1\, 8\, 22\, 29 2026\, 7-8:30pm (First class runs until 9pm) \nLocation: Video Pool Media Arts Centre – The Pivot\, Room 203-100 Arthur Street (Artspace Building) \nStep once again into the transformative world of projection mapping with artist jaymez\, where light\, space\, and creativity converge to redefine perception. Due to popular demand\, this workshop series is back for its second offering\, expanding your ability to bring digital visuals to life in dynamic\, immersive ways. \nThis course introduces projection mapping as a versatile art form\, guiding participants from foundational setup to advanced techniques suitable for large-scale exhibitions. Whether you are a beginner eager to explore new dimensions of light or a creator seeking to refine your projection mapping skills\, this series offers hands-on experience and practical applications for both gallery and experimental settings. \nFor more information and to register for in-person or online instruction:  https://videopool.org/shaping-light-2026/ \nWe are wheelchair accessible. Registration is now open! \nMadMapper licenses will be provided for the duration of the course (thanks to MadMapper!). \nCost: $125.24 for members\, $150 for non-members.
URL:https://creativemanitoba.ca/event/shaping-light-projection-mapping-with-madmapper-second-edition/
CATEGORIES:Artistic Development,Classes,Community Events,Professional Development,Training and Workshops
ATTACH;FMTTYPE=image/jpeg:https://creativemanitoba.ca/wp-content/uploads/2026/03/shaping_light_second_workshop_web01-copy-4.jpg
END:VEVENT
BEGIN:VEVENT
DTSTART;VALUE=DATE:20260411
DTEND;VALUE=DATE:20270531
DTSTAMP:20260420T063520
CREATED:20260210T162326Z
LAST-MODIFIED:20260210T162327Z
UID:10002854-1775865600-1811721599@creativemanitoba.ca
SUMMARY:Adventures in Music - 10:30 am
DESCRIPTION:This un-parented group will use a variety of instruments\, movement songs\, and familiar tunes to create a fun space for connecting and making music. It is a great class for kids who are ready to start learning simple musical skills such as pitch matching\, keeping a steady beat\, and changing tempos. It will also be an introduction to collaborating and engaging in a class environment and developing independence. \nAccessibility: Our ensemble room (where this group class is held) is accessible by a ramp outside Bryce Hall. Once you enter the building\, you’ll find a gender neutral\, accessible washroom available to you. This is next to a push plate activated door leading to our ensemble room. There is a Handi-Transit stop across the street from Bryce Hall. An accessibility map can be viewed here. To request accommodations (including access to Bryce Hall from the top of the ramp)\, please email info@mcma.ca or call 204-988-7650 upon registration.
URL:https://creativemanitoba.ca/event/adventures-in-music-1030-am/
LOCATION:Manitoba Conservatory of Music & Arts\, 1B01\, Bryce Hall\, 515 Portage Avenue\, Winnipeg\, R3B 2E9\, Canada
CATEGORIES:Children,Classes,Community Events
ATTACH;FMTTYPE=image/jpeg:https://creativemanitoba.ca/wp-content/uploads/2026/02/IMG_5597-2_online.jpg
END:VEVENT
BEGIN:VEVENT
DTSTART;VALUE=DATE:20260412
DTEND;VALUE=DATE:20270601
DTSTAMP:20260420T063520
CREATED:20260210T162819Z
LAST-MODIFIED:20260210T162819Z
UID:10002733-1775952000-1811807999@creativemanitoba.ca
SUMMARY:Ensemble Singing for Adults
DESCRIPTION:Calling adult singers looking to improve their ears and ability to sing in a group! Ensemble Singing for Adults will prioritize learning to breathe\, sing\, and tell stories as a group. The class will begin by focusing on unison singing and move towards introducing harmony based on level and interest of participants. This is a multilevel class that invites adults wanting to explore the skills needed to be a part of a choir or vocal group. \nThis class runs from 3:30 – 4:30 pm on Sundays.
URL:https://creativemanitoba.ca/event/ensemble-singing-for-adults/
LOCATION:Manitoba Conservatory of Music & Arts\, 1B01\, Bryce Hall\, 515 Portage Avenue\, Winnipeg\, R3B 2E9\, Canada
CATEGORIES:Classes,Community Events
ATTACH;FMTTYPE=image/jpeg:https://creativemanitoba.ca/wp-content/uploads/2026/02/IMG_6548-2_online.jpg
END:VEVENT
BEGIN:VEVENT
DTSTART;TZID=America/Winnipeg:20260415T134500
DTEND;TZID=America/Winnipeg:20260506T143000
DTSTAMP:20260420T063520
CREATED:20260224T194707Z
LAST-MODIFIED:20260224T194707Z
UID:10003079-1776260700-1778077800@creativemanitoba.ca
SUMMARY:Baby Beats (Louis Riel Library location)
DESCRIPTION:Baby Beats is a parented early childhood music program for babies 0-3 that focuses on musical foundations and social skill development. Babies gain fine and gross motor skills\, learn how to wait their turn\, discover tempo and rhythm by dancing and playing with scarves or body percussion\, match pitch and find joy in musical storytelling. \nPlease note that this class takes place at one of our satellite locations\, the Louis Riel Library (1168 Dakota Street\, Winnipeg).
URL:https://creativemanitoba.ca/event/baby-beats-louis-riel-library-location/
LOCATION:Louis Riel Library\, 1168 Dakota Street\, Winnipeg\, Canada
CATEGORIES:Children,Classes,Community Events
ATTACH;FMTTYPE=image/jpeg:https://creativemanitoba.ca/wp-content/uploads/2026/02/IMG_7861_horizontal_online.jpg
ORGANIZER;CN="Manitoba Conservatory of Music &amp%3B Arts":MAILTO:info@mcma.ca
END:VEVENT
BEGIN:VEVENT
DTSTART;VALUE=DATE:20260416
DTEND;VALUE=DATE:20260508
DTSTAMP:20260420T063520
CREATED:20260126T161212Z
LAST-MODIFIED:20260126T161314Z
UID:10002592-1776297600-1778198399@creativemanitoba.ca
SUMMARY:Baby Beats - 1 pm (Scout Coffee location)
DESCRIPTION:Baby Beats is a parented early childhood music program for babies 0-3 that focuses on musical foundations and social skill development. Babies gain fine and gross motor skills\, learn how to wait their turn\, discover tempo and rhythm by dancing and playing with scarves or body percussion\, match pitch and find joy in musical storytelling. \nPlease note that this class takes place at one of our satellite locations\, Scout Coffee (1199 Rothesay Street\, Winnipeg).
URL:https://creativemanitoba.ca/event/baby-beats-1-pm-scout-coffee-location/
CATEGORIES:Children,Classes,Community Events
ATTACH;FMTTYPE=image/jpeg:https://creativemanitoba.ca/wp-content/uploads/2026/01/IMG_7359_online.jpg
END:VEVENT
BEGIN:VEVENT
DTSTART;VALUE=DATE:20260417
DTEND;VALUE=DATE:20270509
DTSTAMP:20260420T063520
CREATED:20260208T192330Z
LAST-MODIFIED:20260208T192330Z
UID:10002675-1776384000-1809820799@creativemanitoba.ca
SUMMARY:Baby Beats 10:15 am (Cornish Library location)
DESCRIPTION:Baby Beats is a parented early childhood music program for babies 0-3 that focuses on musical foundations and social skill development. Babies gain fine and gross motor skills\, learn how to wait their turn\, discover tempo and rhythm by dancing and playing with scarves or body percussion\, match pitch and find joy in musical storytelling. \nPlease note that this class takes place at one of our satellite locations\, the Cornish Library (20 West Gate\, Winnipeg). \nThis program runs every week from 10:15 am to 11 am Fridays\, from April 17\, 2026 to May 8\, 2027.
URL:https://creativemanitoba.ca/event/baby-beats-1015-am-cornish-library-location/
LOCATION:Cornish Library\, 20 West Gate\, Winnipeg\, Canada
CATEGORIES:Children,Classes,Community Events
ATTACH;FMTTYPE=image/jpeg:https://creativemanitoba.ca/wp-content/uploads/2026/02/IMG_7889-2_horizontal_online.jpg
END:VEVENT
BEGIN:VEVENT
DTSTART;TZID=America/Winnipeg:20260421T090000
DTEND;TZID=America/Winnipeg:20260421T093000
DTSTAMP:20260420T063520
CREATED:20260210T163546Z
LAST-MODIFIED:20260210T163546Z
UID:10002974-1776762000-1776763800@creativemanitoba.ca
SUMMARY:Baby Beats (FREE online version)
DESCRIPTION:Online via Zoom\nCLASSES ARE FREE–funded entirely by Music Equals supporters \nBaby Beats gives parents with babies and toddlers a chance to participate in music sharing time together from the comfort of their own homes. Instructor McKenna Hodges uses nursery rhymes\, books\, music recordings\, dance\, movement\, and body percussion to introduce basic musical foundations to our littlest participants. Children enjoy a variety of activities which focus on rhythm\, motor skills and pitch while their parents begin to understand how their babies learn. \nThis class runs from 9 – 9:30 am on Tuesdays and Thursdays.
URL:https://creativemanitoba.ca/event/baby-beats-free-online-version/
LOCATION:Manitoba Conservatory of Music & Arts\, 1B01\, Bryce Hall\, 515 Portage Avenue\, Winnipeg\, R3B 2E9\, Canada
CATEGORIES:Children,Classes,Community Events
ATTACH;FMTTYPE=image/jpeg:https://creativemanitoba.ca/wp-content/uploads/2026/02/pexels-polina-tankilevitch-3875219_online.jpg
END:VEVENT
BEGIN:VEVENT
DTSTART;VALUE=DATE:20260509
DTEND;VALUE=DATE:20270531
DTSTAMP:20260420T063520
CREATED:20260123T211226Z
LAST-MODIFIED:20260210T185018Z
UID:10002476-1778284800-1811721599@creativemanitoba.ca
SUMMARY:Intro to Instruments - 1:30 pm
DESCRIPTION:Is your child ready to start private lessons? Have they participated in early childhood programs and are curious about what comes next? This group class will introduce children to a different instrumental discipline each week\, letting them decide what they like best as they transition into private instruction. Will it be brass? Violin? Piano? Voice? Try them all! \nThis class is on Saturdays from 1:30 to 2:25 pm. \nThese introductory classes are designed to be a stepping stone towards private music lessons. We are offering graduates of this class a $50 discount for individual instruction. Intro to Instruments students must register for private lessons within one year of graduation from this class in order to take advantage of this special offer.
URL:https://creativemanitoba.ca/event/intro-to-instruments-130-2/
LOCATION:Manitoba Conservatory of Music & Arts\, 1910 Portage Avenue\, Winnipeg\, R3B 2E9
CATEGORIES:Children,Classes,Community Events
ATTACH;FMTTYPE=image/jpeg:https://creativemanitoba.ca/wp-content/uploads/2026/01/IMG_8282_online.jpg
ORGANIZER;CN="Manitoba Conservatory of Music &amp%3B Arts":MAILTO:info@mcma.ca
END:VEVENT
BEGIN:VEVENT
DTSTART;VALUE=DATE:20260509
DTEND;VALUE=DATE:20270531
DTSTAMP:20260420T063520
CREATED:20260123T211350Z
LAST-MODIFIED:20260210T184713Z
UID:10002532-1778284800-1811721599@creativemanitoba.ca
SUMMARY:Intro to Instruments-2:30
DESCRIPTION:Is your child ready to start private lessons? Have they participated in early childhood programs and are curious about what comes next? This group class will introduce children to a different instrumental discipline each week\, letting them decide what they like best as they transition into private instruction. Will it be brass? Violin? Piano? Voice? Try them all! \nThis class is on Saturdays from 2:30 to 3:15 pm. \nThese introductory classes are designed to be a stepping stone towards private music lessons. We are offering graduates of this class a $50 discount for individual instruction. Intro to Instruments students must register for private lessons within one year of graduation from this class in order to take advantage of this special offer.
URL:https://creativemanitoba.ca/event/intro-to-instruments-230-2/
CATEGORIES:Children,Classes,Community Events
ATTACH;FMTTYPE=image/jpeg:https://creativemanitoba.ca/wp-content/uploads/2026/01/IMG_7976-2_online.jpg
END:VEVENT
BEGIN:VEVENT
DTSTART;VALUE=DATE:20260510
DTEND;VALUE=DATE:20270601
DTSTAMP:20260420T063520
CREATED:20260115T153934Z
LAST-MODIFIED:20260115T154021Z
UID:10002412-1778371200-1811807999@creativemanitoba.ca
SUMMARY:Intro to Musical Theatre - 2:30 pm Class
DESCRIPTION:Do you have a preschooler who loves to sing\, dance\, play dress up\, and tell stories with music? Are you curious to see if they are the next musical theatre star? Are you unsure whether or not they are ready to start taking music lessons? Children as young as age four are often ready for private instruction! Explore four weeks of musical theatre in a small group to help determine whether your child is ready for the next step in their musical journeys with activities designed especially for busy minds and bodies who love music! \nThese introductory classes are designed to be a stepping stone towards private music lessons. We are offering graduates of this class a $50 discount for individual instruction. Intro to Musical Theatre students must register for private lessons within one year of graduation from this class in order to take advantage of this special offer. \nAccessibility: The chapel (where this group class is held) is accessible by a ramp outside Bryce Hall. Once you enter the building\, you’ll find a gender neutral\, accessible washroom available to you. There is a Handi-Transit stop across the street from Bryce Hall. An accessibility map can be viewed here. To request accommodations (including access to Bryce Hall from the top of the ramp)\, please email info@mcma.ca or call 204-988-7650 upon registration.
URL:https://creativemanitoba.ca/event/intro-to-musical-theatre-230-pm-class/
LOCATION:Manitoba Conservatory of Music & Arts\, 1910 Portage Avenue\, Winnipeg\, R3B 2E9
CATEGORIES:Children,Classes,Community Events
ATTACH;FMTTYPE=image/jpeg:https://creativemanitoba.ca/wp-content/uploads/2026/01/IMG_5096_online.jpg
ORGANIZER;CN="Manitoba Conservatory of Music &amp%3B Arts":MAILTO:info@mcma.ca
END:VEVENT
BEGIN:VEVENT
DTSTART;VALUE=DATE:20260510
DTEND;VALUE=DATE:20270601
DTSTAMP:20260420T063520
CREATED:20260115T154443Z
LAST-MODIFIED:20260115T154516Z
UID:10002356-1778371200-1811807999@creativemanitoba.ca
SUMMARY:Intro to Musical Theatre - 1:30 pm Class
DESCRIPTION:Do you have a preschooler who loves to sing\, dance\, play dress up\, and tell stories with music? Are you curious to see if they are the next musical theatre star? Are you unsure whether or not they are ready to start taking music lessons? Children as young as age four are often ready for private instruction! Explore four weeks of musical theatre in a small group to help determine whether your child is ready for the next step in their musical journeys with activities designed especially for busy minds and bodies who love music! \nThese introductory classes are designed to be a stepping stone towards private music lessons. We are offering graduates of this class a $50 discount for individual instruction. Intro to Musical Theatre students must register for private lessons within one year of graduation from this class in order to take advantage of this special offer. \nAccessibility: The chapel (where this group class is held) is accessible by a ramp outside Bryce Hall. Once you enter the building\, you’ll find a gender neutral\, accessible washroom available to you. There is a Handi-Transit stop across the street from Bryce Hall. An accessibility map can be viewed here. To request accommodations (including access to Bryce Hall from the top of the ramp)\, please email info@mcma.ca or call 204-988-7650 upon registration.
URL:https://creativemanitoba.ca/event/intro-to-musical-theatre-130-pm-class/
LOCATION:Manitoba Conservatory of Music & Arts\, 1910 Portage Avenue\, Winnipeg\, R3B 2E9
CATEGORIES:Children,Classes,Community Events
ATTACH;FMTTYPE=image/jpeg:https://creativemanitoba.ca/wp-content/uploads/2026/01/IMG_5042_online.jpg
END:VEVENT
BEGIN:VEVENT
DTSTART;VALUE=DATE:20260713
DTEND;VALUE=DATE:20260825
DTSTAMP:20260420T063520
CREATED:20260316T200211Z
LAST-MODIFIED:20260316T200211Z
UID:10003167-1783900800-1787615999@creativemanitoba.ca
SUMMARY:Baby Beats Scout Coffee location - 9 am (summer)
DESCRIPTION:Baby Beats is a parented early childhood music program for babies 0-3 that focuses on musical foundations and social skill development. Babies gain fine and gross motor skills\, learn how to wait their turn\, discover tempo and rhythm by dancing and playing with scarves or body percussion\, match pitch and find joy in musical storytelling. \nThis class runs from 9 – 9:45 am \nPlease note that this class takes place at one of our satellite locations\, Scout Coffee (1199 Rothesay Street\, Winnipeg).
URL:https://creativemanitoba.ca/event/baby-beats-scout-coffee-location-9-am-summer/
CATEGORIES:Children,Classes,Community Events
ATTACH;FMTTYPE=image/jpeg:https://creativemanitoba.ca/wp-content/uploads/2026/03/IMG_7260-3_online.jpg
ORGANIZER;CN="Manitoba Conservatory of Music &amp%3B Arts":MAILTO:info@mcma.ca
END:VEVENT
BEGIN:VEVENT
DTSTART;VALUE=DATE:20260714
DTEND;VALUE=DATE:20260819
DTSTAMP:20260420T063520
CREATED:20260316T195436Z
LAST-MODIFIED:20260316T195436Z
UID:10003170-1783987200-1787097599@creativemanitoba.ca
SUMMARY:Intro to Musical Theatre - 10 am (summer)
DESCRIPTION:Do you have a preschooler who loves to sing\, dance\, play dress up\, and tell stories with music? Are you curious to see if they are the next musical theatre star? Are you unsure whether or not they are ready to start taking music lessons? Children as young as age four are often ready for private instruction! Explore four weeks of musical theatre in a small group to help determine whether your child is ready for the next step in their musical journeys with activities designed especially for busy minds and bodies who love music! \nThis class runs from 10 – 10:45 am.
URL:https://creativemanitoba.ca/event/intro-to-musical-theatre-10-am-summer/
LOCATION:Manitoba Conservatory of Music & Arts\, 1B01\, Bryce Hall\, 515 Portage Avenue\, Winnipeg\, R3B 2E9\, Canada
CATEGORIES:Children,Classes,Community Events
ATTACH;FMTTYPE=image/jpeg:https://creativemanitoba.ca/wp-content/uploads/2026/03/IMG_4885_online.jpg
ORGANIZER;CN="Manitoba Conservatory of Music &amp%3B Arts":MAILTO:info@mcma.ca
END:VEVENT
BEGIN:VEVENT
DTSTART;VALUE=DATE:20260714
DTEND;VALUE=DATE:20260819
DTSTAMP:20260420T063520
CREATED:20260316T195903Z
LAST-MODIFIED:20260316T195903Z
UID:10003168-1783987200-1787097599@creativemanitoba.ca
SUMMARY:Baby Beats - 12:30 pm (summer)
DESCRIPTION:Baby Beats is a parented early childhood music program for babies 0-3 that focuses on musical foundations and social skill development. Babies gain fine and gross motor skills\, learn how to wait their turn\, discover tempo and rhythm by dancing and playing with scarves or body percussion\, match pitch and find joy in musical storytelling. \nThis class runs from 12:30 – 1:15 pm.
URL:https://creativemanitoba.ca/event/baby-beats-1230-pm-summer/
LOCATION:Manitoba Conservatory of Music & Arts\, 1B01\, Bryce Hall\, 515 Portage Avenue\, Winnipeg\, R3B 2E9\, Canada
CATEGORIES:Children,Classes,Community Events
ATTACH;FMTTYPE=image/jpeg:https://creativemanitoba.ca/wp-content/uploads/2026/03/IMG_7920_horizontal_online.jpg
ORGANIZER;CN="Manitoba Conservatory of Music &amp%3B Arts":MAILTO:info@mcma.ca
END:VEVENT
BEGIN:VEVENT
DTSTART;VALUE=DATE:20260714
DTEND;VALUE=DATE:20260819
DTSTAMP:20260420T063520
CREATED:20260317T184108Z
LAST-MODIFIED:20260317T184108Z
UID:10003176-1783987200-1787097599@creativemanitoba.ca
SUMMARY:Music and Madness - 7 pm (summer)
DESCRIPTION:Why do we call it “madness” when it sounds like a masterpiece? Join us for an ear-opening exploration of music\, history\, and the human spirit. We’re moving past the clinical labels to celebrate the brilliance of artists who lived—and played—outside the lines. \nFeaturing the music of: \n\nNina Simone (The High Priestess of Soul)\nRobert Schumann (The Romantic Visionary)\nSun Ra (The Cosmic Philosopher)\nIggy Pop (The Godfather of Punk)\n\nDiscover the history of patient activism and learn how culture can be the ultimate tool for healing. Your perspective on music will never be the same. \nThis program runs from 7 – 8pm.
URL:https://creativemanitoba.ca/event/music-and-madness-7-pm-summer/
CATEGORIES:Classes,Community Events
ATTACH;FMTTYPE=image/jpeg:https://creativemanitoba.ca/wp-content/uploads/2026/03/DonnaOrchard_online.jpg
ORGANIZER;CN="Manitoba Conservatory of Music &amp%3B Arts":MAILTO:info@mcma.ca
END:VEVENT
BEGIN:VEVENT
DTSTART;VALUE=DATE:20260715
DTEND;VALUE=DATE:20260820
DTSTAMP:20260420T063520
CREATED:20260316T193458Z
LAST-MODIFIED:20260316T193458Z
UID:10003175-1784073600-1787183999@creativemanitoba.ca
SUMMARY:Adventures in Music-1:30 pm (summer)
DESCRIPTION:This un-parented group will use a variety of instruments\, movement songs\, and familiar tunes to create a fun space for connecting and making music. It is a great class for kids who are ready to start learning simple musical skills such as pitch matching\, keeping a steady beat\, and changing tempos. It will also be an introduction to collaborating and engaging in a class environment and developing independence. \nThis class runs from 1:30 – 2:15 pm.
URL:https://creativemanitoba.ca/event/adventures-in-music-130-pm-summer/
LOCATION:Manitoba Conservatory of Music & Arts\, 1B01\, Bryce Hall\, 515 Portage Avenue\, Winnipeg\, R3B 2E9\, Canada
CATEGORIES:Children,Classes,Community Events
ATTACH;FMTTYPE=image/jpeg:https://creativemanitoba.ca/wp-content/uploads/2026/03/IMG_5815_online.jpg
ORGANIZER;CN="Manitoba Conservatory of Music &amp%3B Arts":MAILTO:info@mcma.ca
END:VEVENT
BEGIN:VEVENT
DTSTART;VALUE=DATE:20260715
DTEND;VALUE=DATE:20260820
DTSTAMP:20260420T063520
CREATED:20260316T194023Z
LAST-MODIFIED:20260316T194023Z
UID:10003173-1784073600-1787183999@creativemanitoba.ca
SUMMARY:Musical Storytime - 12:30 pm (summer)
DESCRIPTION:What can we find as we tiptoe through the forest\, fly through space\, or zoom around in a car? This parented group will explore various themes each week through singing\, movement\, instrument exploration\, and books. This hands-on group is a fun and engaging place to introduce your child to early musical concepts\, build social connections\, and foster a love for music. \nThis class runs from 12:30 – 1:15 pm.
URL:https://creativemanitoba.ca/event/musical-storytime-1230-pm-summer/
LOCATION:Manitoba Conservatory of Music & Arts\, 1B01\, Bryce Hall\, 515 Portage Avenue\, Winnipeg\, R3B 2E9\, Canada
CATEGORIES:Children,Classes,Community Events
ATTACH;FMTTYPE=image/jpeg:https://creativemanitoba.ca/wp-content/uploads/2026/03/IMG_0494_online.jpg
ORGANIZER;CN="Manitoba Conservatory of Music &amp%3B Arts":MAILTO:info@mcma.ca
END:VEVENT
BEGIN:VEVENT
DTSTART;VALUE=DATE:20260715
DTEND;VALUE=DATE:20260820
DTSTAMP:20260420T063520
CREATED:20260316T194656Z
LAST-MODIFIED:20260316T194717Z
UID:10003172-1784073600-1787183999@creativemanitoba.ca
SUMMARY:Musical Storytime - 9:30 am (summer)
DESCRIPTION:What can we find as we tiptoe through the forest\, fly through space\, or zoom around in a car? This parented group will explore various themes each week through singing\, movement\, instrument exploration\, and books. This hands-on group is a fun and engaging place to introduce your child to early musical concepts\, build social connections\, and foster a love for music. \nThis class runs from 9:30 – 10:15 am.
URL:https://creativemanitoba.ca/event/musical-storytime-930-am-summer/
LOCATION:Manitoba Conservatory of Music & Arts\, 1B01\, Bryce Hall\, 515 Portage Avenue\, Winnipeg\, R3B 2E9\, Canada
CATEGORIES:Children,Classes,Community Events
ATTACH;FMTTYPE=image/jpeg:https://creativemanitoba.ca/wp-content/uploads/2026/03/IMG_5208_online.jpg
ORGANIZER;CN="Manitoba Conservatory of Music &amp%3B Arts":MAILTO:info@mcma.ca
END:VEVENT
BEGIN:VEVENT
DTSTART;VALUE=DATE:20260716
DTEND;VALUE=DATE:20260821
DTSTAMP:20260420T063520
CREATED:20260316T195721Z
LAST-MODIFIED:20260316T195735Z
UID:10003169-1784160000-1787270399@creativemanitoba.ca
SUMMARY:Baby Beats Scout Coffee location - 1 pm (summer)
DESCRIPTION:Baby Beats is a parented early childhood music program for babies 0-3 that focuses on musical foundations and social skill development. Babies gain fine and gross motor skills\, learn how to wait their turn\, discover tempo and rhythm by dancing and playing with scarves or body percussion\, match pitch and find joy in musical storytelling. \nThis class runs from 1 – 1:45 pm. \nPlease note that this class takes place at one of our satellite locations\, Scout Coffee (1199 Rothesay Street\, Winnipeg).
URL:https://creativemanitoba.ca/event/baby-beats-scout-coffee-location-1-pm-summer/
CATEGORIES:Children,Classes,Community Events
ATTACH;FMTTYPE=image/jpeg:https://creativemanitoba.ca/wp-content/uploads/2026/03/IMG_7342_online.jpg
ORGANIZER;CN="Manitoba Conservatory of Music &amp%3B Arts":MAILTO:info@mcma.ca
END:VEVENT
BEGIN:VEVENT
DTSTART;VALUE=DATE:20261106
DTEND;VALUE=DATE:20270508
DTSTAMP:20260420T063520
CREATED:20260219T171300Z
LAST-MODIFIED:20260224T200106Z
UID:10003017-1793923200-1809734399@creativemanitoba.ca
SUMMARY:Baby Beats Francais (St. Boniface Library)
DESCRIPTION:Baby Beats is a parented early childhood music program for babies 0-3 that focuses on musical foundations and social skill development. Babies gain fine and gross motor skills\, learn how to wait their turn\, discover tempo and rhythm by dancing and playing with scarves or body percussion\, match pitch and find joy in musical storytelling. NOW OFFERED IN FRENCH! \nPlease note that this class takes place at one of our satellite locations\, the St. Boniface Library (100-131 Provencher Boulevard\, Winnipeg). \nThis class runs on Fridays from 1 – 1:45 pm\, from November 6\, 2026 through May 7\, 2027.
URL:https://creativemanitoba.ca/event/baby-beats-francais-st-boniface-library/
LOCATION:St. Boniface Library\, 100-131 Provencher Boulevard\, Winnipeg\, Canada
CATEGORIES:Children,Classes,Community Events
ATTACH;FMTTYPE=image/jpeg:https://creativemanitoba.ca/wp-content/uploads/2026/02/IMG_7838_online.jpg
ORGANIZER;CN="Manitoba Conservatory of Music &amp%3B Arts":MAILTO:info@mcma.ca
END:VEVENT
END:VCALENDAR