BEGIN:VCALENDAR
VERSION:2.0
PRODID:-//Creative Manitoba - ECPv6.15.18//NONSGML v1.0//EN
CALSCALE:GREGORIAN
METHOD:PUBLISH
X-WR-CALNAME:Creative Manitoba
X-ORIGINAL-URL:https://creativemanitoba.ca
X-WR-CALDESC:Events for Creative Manitoba
REFRESH-INTERVAL;VALUE=DURATION:PT1H
X-Robots-Tag:noindex
X-PUBLISHED-TTL:PT1H
BEGIN:VTIMEZONE
TZID:America/Winnipeg
BEGIN:DAYLIGHT
TZOFFSETFROM:-0600
TZOFFSETTO:-0500
TZNAME:CDT
DTSTART:20250309T080000
END:DAYLIGHT
BEGIN:STANDARD
TZOFFSETFROM:-0500
TZOFFSETTO:-0600
TZNAME:CST
DTSTART:20251102T070000
END:STANDARD
BEGIN:DAYLIGHT
TZOFFSETFROM:-0600
TZOFFSETTO:-0500
TZNAME:CDT
DTSTART:20260308T080000
END:DAYLIGHT
BEGIN:STANDARD
TZOFFSETFROM:-0500
TZOFFSETTO:-0600
TZNAME:CST
DTSTART:20261101T070000
END:STANDARD
BEGIN:DAYLIGHT
TZOFFSETFROM:-0600
TZOFFSETTO:-0500
TZNAME:CDT
DTSTART:20270314T080000
END:DAYLIGHT
BEGIN:STANDARD
TZOFFSETFROM:-0500
TZOFFSETTO:-0600
TZNAME:CST
DTSTART:20271107T070000
END:STANDARD
END:VTIMEZONE
BEGIN:VEVENT
DTSTART;TZID=America/Winnipeg:20260423T160000
DTEND;TZID=America/Winnipeg:20260423T170000
DTSTAMP:20260421T034807
CREATED:20260415T153500Z
LAST-MODIFIED:20260415T153500Z
UID:10003208-1776960000-1776963600@creativemanitoba.ca
SUMMARY:Manitobans for the Arts Presents Draft Culture #8
DESCRIPTION:Draft Culture Round 8 – Thursday April 23\, 2026 – Online \nThis round of Draft Culture is scheduled for April 23\, 2026\, online via Zoom \nBringing together members from across the Arts and Culture sector\, Draft Culture is a small\, monthly get-together for our members to exchange ideas\, concerns\, beefs and anything else that comes to mind – while sitting with a group of peers in an informal setting. \nOur next Draft Culture is scheduled for April 23\, 2026\, from 4pm to 5pm. \nRegistration is for anyone interested in partaking in a lively discussion of the highs and lows that the arts and culture sector is presently facing. \nDraft Culture events are casual\, insightful and a great opportunity to connect.
URL:https://creativemanitoba.ca/event/manitobans-for-the-arts-presents-draft-culture-8/
LOCATION:online event\, NONE\, world wide web\, world wide web
CATEGORIES:Discussion,Information Session,Professional Development
ATTACH;FMTTYPE=image/jpeg:https://creativemanitoba.ca/wp-content/uploads/2026/04/Draft-Culture-April-Logo-3c.jpeg
ORGANIZER;CN="Manitobans for the Arts":MAILTO:info@manitobansforthearts.ca
END:VEVENT
BEGIN:VEVENT
DTSTART;TZID=America/Winnipeg:20260424T080000
DTEND;TZID=America/Winnipeg:20260424T100000
DTSTAMP:20260421T034807
CREATED:20260331T192330Z
LAST-MODIFIED:20260331T192330Z
UID:10003191-1777017600-1777024800@creativemanitoba.ca
SUMMARY:CreativeMornings WPG | EMBER with Matt Jenkins of Cloverdale Forge
DESCRIPTION:JOIN US on April 24th at 8am for a creative exploration of our global theme of EMBER with Matt Jenkins of Cloverdale Forge. \nTALK: “Tending the Embers: Keeping the Flames of Creativity Fueled.” \nOur tech-driven world often celebrates the spark\, but rarely do we talk about what keeps creativity burning over time. \nAt CreativeMornings Winnipeg this April\, we welcome Matt Jenkins of Cloverdale Forge—a modern blacksmith whose work is rooted in patience\, precision\, and the daily practice of tending the fire. \nThrough fire\, steel\, and story\, Matt will explore what it means to stay with an idea after the initial excitement fades\, when all that remains is the ember. He’ll reflect on the discipline and resilience behind steady\, intentional creativity. \nAfter all\, it’s not the spark that sustains the flame—it’s the focus. \nMEET OUR SPEAKER\nMatt Jenkins grew up in a household that made it by hand. His path into blacksmithing began through his father and took hold during a summer job at the blacksmith shop at Lower Fort Garry National Historic Site. More than 30 years later\, he is an internationally recognized artist blacksmith known for highly crafted work\, thoughtful design\, and a deep commitment to the traditions of the forge. In 2016\, he challenged himself to design and forge a different hook every day for a full leap year\, a project that later became his 2024 book HOOKED: A Blacksmith’s Study of Function Through Form. Today\, Matt creates custom ironwork just north of Winnipeg while teaching and demonstrating across North America.
URL:https://creativemanitoba.ca/event/creativemornings-wpg-ember-with-matt-jenkins-of-cloverdale-forge/
LOCATION:The Forks Market\, 2nd Floor\, 1 Forks Market Rd\, Winnipeg\, Manitoba\, R3C 4L9\, Canada
CATEGORIES:Community Events,Discussion
ATTACH;FMTTYPE=image/png:https://creativemanitoba.ca/wp-content/uploads/2026/03/Portal-Event-Calendar-Images-4.png
ORGANIZER;CN="CreativeMornings WPG":MAILTO:winnipeg@creativemornings.com
END:VEVENT
END:VCALENDAR