BEGIN:VCALENDAR
VERSION:2.0
PRODID:-//Creative Manitoba - ECPv6.15.18//NONSGML v1.0//EN
CALSCALE:GREGORIAN
METHOD:PUBLISH
X-WR-CALNAME:Creative Manitoba
X-ORIGINAL-URL:https://creativemanitoba.ca
X-WR-CALDESC:Events for Creative Manitoba
REFRESH-INTERVAL;VALUE=DURATION:PT1H
X-Robots-Tag:noindex
X-PUBLISHED-TTL:PT1H
BEGIN:VTIMEZONE
TZID:America/Winnipeg
BEGIN:DAYLIGHT
TZOFFSETFROM:-0600
TZOFFSETTO:-0500
TZNAME:CDT
DTSTART:20260308T080000
END:DAYLIGHT
BEGIN:STANDARD
TZOFFSETFROM:-0500
TZOFFSETTO:-0600
TZNAME:CST
DTSTART:20261101T070000
END:STANDARD
BEGIN:DAYLIGHT
TZOFFSETFROM:-0600
TZOFFSETTO:-0500
TZNAME:CDT
DTSTART:20270314T080000
END:DAYLIGHT
BEGIN:STANDARD
TZOFFSETFROM:-0500
TZOFFSETTO:-0600
TZNAME:CST
DTSTART:20271107T070000
END:STANDARD
BEGIN:DAYLIGHT
TZOFFSETFROM:-0600
TZOFFSETTO:-0500
TZNAME:CDT
DTSTART:20280312T080000
END:DAYLIGHT
BEGIN:STANDARD
TZOFFSETFROM:-0500
TZOFFSETTO:-0600
TZNAME:CST
DTSTART:20281105T070000
END:STANDARD
END:VTIMEZONE
BEGIN:VEVENT
DTSTART;TZID=America/Winnipeg:20271002T113000
DTEND;TZID=America/Winnipeg:20271002T121500
DTSTAMP:20260422T174354
CREATED:20260421T202534Z
LAST-MODIFIED:20260421T202534Z
UID:10003439-1822476600-1822479300@creativemanitoba.ca
SUMMARY:Musical Storytime-11:30 am (fall)
DESCRIPTION:We’ll explore various themes each week through singing\, movement\, instrument exploration\, and books. This hands-on group is a fun and engaging place to introduce your child to early musical concepts\, build social connections\, and foster a love for music!
URL:https://creativemanitoba.ca/event/musical-storytime-1130-am-fall/2027-10-02/
LOCATION:Manitoba Conservatory of Music & Arts\, 1B01\, Bryce Hall\, 515 Portage Avenue\, Winnipeg\, R3B 2E9\, Canada
CATEGORIES:Children,Classes,Community Events
ATTACH;FMTTYPE=image/jpeg:https://creativemanitoba.ca/wp-content/uploads/2026/04/IMG_5757_online.jpg
ORGANIZER;CN="Manitoba Conservatory of Music &amp%3B Arts":MAILTO:info@mcma.ca
END:VEVENT
BEGIN:VEVENT
DTSTART;TZID=America/Winnipeg:20271009T113000
DTEND;TZID=America/Winnipeg:20271009T121500
DTSTAMP:20260422T174354
CREATED:20260421T202534Z
LAST-MODIFIED:20260421T202534Z
UID:10003440-1823081400-1823084100@creativemanitoba.ca
SUMMARY:Musical Storytime-11:30 am (fall)
DESCRIPTION:We’ll explore various themes each week through singing\, movement\, instrument exploration\, and books. This hands-on group is a fun and engaging place to introduce your child to early musical concepts\, build social connections\, and foster a love for music!
URL:https://creativemanitoba.ca/event/musical-storytime-1130-am-fall/2027-10-09/
LOCATION:Manitoba Conservatory of Music & Arts\, 1B01\, Bryce Hall\, 515 Portage Avenue\, Winnipeg\, R3B 2E9\, Canada
CATEGORIES:Children,Classes,Community Events
ATTACH;FMTTYPE=image/jpeg:https://creativemanitoba.ca/wp-content/uploads/2026/04/IMG_5757_online.jpg
ORGANIZER;CN="Manitoba Conservatory of Music &amp%3B Arts":MAILTO:info@mcma.ca
END:VEVENT
BEGIN:VEVENT
DTSTART;TZID=America/Winnipeg:20271016T113000
DTEND;TZID=America/Winnipeg:20271016T121500
DTSTAMP:20260422T174354
CREATED:20260421T202534Z
LAST-MODIFIED:20260421T202534Z
UID:10003441-1823686200-1823688900@creativemanitoba.ca
SUMMARY:Musical Storytime-11:30 am (fall)
DESCRIPTION:We’ll explore various themes each week through singing\, movement\, instrument exploration\, and books. This hands-on group is a fun and engaging place to introduce your child to early musical concepts\, build social connections\, and foster a love for music!
URL:https://creativemanitoba.ca/event/musical-storytime-1130-am-fall/2027-10-16/
LOCATION:Manitoba Conservatory of Music & Arts\, 1B01\, Bryce Hall\, 515 Portage Avenue\, Winnipeg\, R3B 2E9\, Canada
CATEGORIES:Children,Classes,Community Events
ATTACH;FMTTYPE=image/jpeg:https://creativemanitoba.ca/wp-content/uploads/2026/04/IMG_5757_online.jpg
ORGANIZER;CN="Manitoba Conservatory of Music &amp%3B Arts":MAILTO:info@mcma.ca
END:VEVENT
BEGIN:VEVENT
DTSTART;TZID=America/Winnipeg:20271023T113000
DTEND;TZID=America/Winnipeg:20271023T121500
DTSTAMP:20260422T174354
CREATED:20260421T202534Z
LAST-MODIFIED:20260421T202534Z
UID:10003442-1824291000-1824293700@creativemanitoba.ca
SUMMARY:Musical Storytime-11:30 am (fall)
DESCRIPTION:We’ll explore various themes each week through singing\, movement\, instrument exploration\, and books. This hands-on group is a fun and engaging place to introduce your child to early musical concepts\, build social connections\, and foster a love for music!
URL:https://creativemanitoba.ca/event/musical-storytime-1130-am-fall/2027-10-23/
LOCATION:Manitoba Conservatory of Music & Arts\, 1B01\, Bryce Hall\, 515 Portage Avenue\, Winnipeg\, R3B 2E9\, Canada
CATEGORIES:Children,Classes,Community Events
ATTACH;FMTTYPE=image/jpeg:https://creativemanitoba.ca/wp-content/uploads/2026/04/IMG_5757_online.jpg
ORGANIZER;CN="Manitoba Conservatory of Music &amp%3B Arts":MAILTO:info@mcma.ca
END:VEVENT
BEGIN:VEVENT
DTSTART;TZID=America/Winnipeg:20271030T113000
DTEND;TZID=America/Winnipeg:20271030T121500
DTSTAMP:20260422T174354
CREATED:20260421T202534Z
LAST-MODIFIED:20260421T202534Z
UID:10003443-1824895800-1824898500@creativemanitoba.ca
SUMMARY:Musical Storytime-11:30 am (fall)
DESCRIPTION:We’ll explore various themes each week through singing\, movement\, instrument exploration\, and books. This hands-on group is a fun and engaging place to introduce your child to early musical concepts\, build social connections\, and foster a love for music!
URL:https://creativemanitoba.ca/event/musical-storytime-1130-am-fall/2027-10-30/
LOCATION:Manitoba Conservatory of Music & Arts\, 1B01\, Bryce Hall\, 515 Portage Avenue\, Winnipeg\, R3B 2E9\, Canada
CATEGORIES:Children,Classes,Community Events
ATTACH;FMTTYPE=image/jpeg:https://creativemanitoba.ca/wp-content/uploads/2026/04/IMG_5757_online.jpg
ORGANIZER;CN="Manitoba Conservatory of Music &amp%3B Arts":MAILTO:info@mcma.ca
END:VEVENT
BEGIN:VEVENT
DTSTART;TZID=America/Winnipeg:20271106T113000
DTEND;TZID=America/Winnipeg:20271106T121500
DTSTAMP:20260422T174354
CREATED:20260421T202534Z
LAST-MODIFIED:20260421T202534Z
UID:10003444-1825500600-1825503300@creativemanitoba.ca
SUMMARY:Musical Storytime-11:30 am (fall)
DESCRIPTION:We’ll explore various themes each week through singing\, movement\, instrument exploration\, and books. This hands-on group is a fun and engaging place to introduce your child to early musical concepts\, build social connections\, and foster a love for music!
URL:https://creativemanitoba.ca/event/musical-storytime-1130-am-fall/2027-11-06/
LOCATION:Manitoba Conservatory of Music & Arts\, 1B01\, Bryce Hall\, 515 Portage Avenue\, Winnipeg\, R3B 2E9\, Canada
CATEGORIES:Children,Classes,Community Events
ATTACH;FMTTYPE=image/jpeg:https://creativemanitoba.ca/wp-content/uploads/2026/04/IMG_5757_online.jpg
ORGANIZER;CN="Manitoba Conservatory of Music &amp%3B Arts":MAILTO:info@mcma.ca
END:VEVENT
BEGIN:VEVENT
DTSTART;TZID=America/Winnipeg:20271113T113000
DTEND;TZID=America/Winnipeg:20271113T121500
DTSTAMP:20260422T174354
CREATED:20260421T202534Z
LAST-MODIFIED:20260421T202534Z
UID:10003445-1826105400-1826108100@creativemanitoba.ca
SUMMARY:Musical Storytime-11:30 am (fall)
DESCRIPTION:We’ll explore various themes each week through singing\, movement\, instrument exploration\, and books. This hands-on group is a fun and engaging place to introduce your child to early musical concepts\, build social connections\, and foster a love for music!
URL:https://creativemanitoba.ca/event/musical-storytime-1130-am-fall/2027-11-13/
LOCATION:Manitoba Conservatory of Music & Arts\, 1B01\, Bryce Hall\, 515 Portage Avenue\, Winnipeg\, R3B 2E9\, Canada
CATEGORIES:Children,Classes,Community Events
ATTACH;FMTTYPE=image/jpeg:https://creativemanitoba.ca/wp-content/uploads/2026/04/IMG_5757_online.jpg
ORGANIZER;CN="Manitoba Conservatory of Music &amp%3B Arts":MAILTO:info@mcma.ca
END:VEVENT
BEGIN:VEVENT
DTSTART;TZID=America/Winnipeg:20271120T113000
DTEND;TZID=America/Winnipeg:20271120T121500
DTSTAMP:20260422T174354
CREATED:20260421T202534Z
LAST-MODIFIED:20260421T202534Z
UID:10003446-1826710200-1826712900@creativemanitoba.ca
SUMMARY:Musical Storytime-11:30 am (fall)
DESCRIPTION:We’ll explore various themes each week through singing\, movement\, instrument exploration\, and books. This hands-on group is a fun and engaging place to introduce your child to early musical concepts\, build social connections\, and foster a love for music!
URL:https://creativemanitoba.ca/event/musical-storytime-1130-am-fall/2027-11-20/
LOCATION:Manitoba Conservatory of Music & Arts\, 1B01\, Bryce Hall\, 515 Portage Avenue\, Winnipeg\, R3B 2E9\, Canada
CATEGORIES:Children,Classes,Community Events
ATTACH;FMTTYPE=image/jpeg:https://creativemanitoba.ca/wp-content/uploads/2026/04/IMG_5757_online.jpg
ORGANIZER;CN="Manitoba Conservatory of Music &amp%3B Arts":MAILTO:info@mcma.ca
END:VEVENT
BEGIN:VEVENT
DTSTART;TZID=America/Winnipeg:20271127T113000
DTEND;TZID=America/Winnipeg:20271127T121500
DTSTAMP:20260422T174354
CREATED:20260421T202534Z
LAST-MODIFIED:20260421T202534Z
UID:10003447-1827315000-1827317700@creativemanitoba.ca
SUMMARY:Musical Storytime-11:30 am (fall)
DESCRIPTION:We’ll explore various themes each week through singing\, movement\, instrument exploration\, and books. This hands-on group is a fun and engaging place to introduce your child to early musical concepts\, build social connections\, and foster a love for music!
URL:https://creativemanitoba.ca/event/musical-storytime-1130-am-fall/2027-11-27/
LOCATION:Manitoba Conservatory of Music & Arts\, 1B01\, Bryce Hall\, 515 Portage Avenue\, Winnipeg\, R3B 2E9\, Canada
CATEGORIES:Children,Classes,Community Events
ATTACH;FMTTYPE=image/jpeg:https://creativemanitoba.ca/wp-content/uploads/2026/04/IMG_5757_online.jpg
ORGANIZER;CN="Manitoba Conservatory of Music &amp%3B Arts":MAILTO:info@mcma.ca
END:VEVENT
BEGIN:VEVENT
DTSTART;TZID=America/Winnipeg:20271204T113000
DTEND;TZID=America/Winnipeg:20271204T121500
DTSTAMP:20260422T174354
CREATED:20260421T202534Z
LAST-MODIFIED:20260421T202534Z
UID:10003448-1827919800-1827922500@creativemanitoba.ca
SUMMARY:Musical Storytime-11:30 am (fall)
DESCRIPTION:We’ll explore various themes each week through singing\, movement\, instrument exploration\, and books. This hands-on group is a fun and engaging place to introduce your child to early musical concepts\, build social connections\, and foster a love for music!
URL:https://creativemanitoba.ca/event/musical-storytime-1130-am-fall/2027-12-04/
LOCATION:Manitoba Conservatory of Music & Arts\, 1B01\, Bryce Hall\, 515 Portage Avenue\, Winnipeg\, R3B 2E9\, Canada
CATEGORIES:Children,Classes,Community Events
ATTACH;FMTTYPE=image/jpeg:https://creativemanitoba.ca/wp-content/uploads/2026/04/IMG_5757_online.jpg
ORGANIZER;CN="Manitoba Conservatory of Music &amp%3B Arts":MAILTO:info@mcma.ca
END:VEVENT
END:VCALENDAR