BEGIN:VCALENDAR
VERSION:2.0
PRODID:-//Creative Manitoba - ECPv6.15.18//NONSGML v1.0//EN
CALSCALE:GREGORIAN
METHOD:PUBLISH
X-ORIGINAL-URL:https://creativemanitoba.ca
X-WR-CALDESC:Events for Creative Manitoba
REFRESH-INTERVAL;VALUE=DURATION:PT1H
X-Robots-Tag:noindex
X-PUBLISHED-TTL:PT1H
BEGIN:VTIMEZONE
TZID:America/Winnipeg
BEGIN:DAYLIGHT
TZOFFSETFROM:-0600
TZOFFSETTO:-0500
TZNAME:CDT
DTSTART:20260308T080000
END:DAYLIGHT
BEGIN:STANDARD
TZOFFSETFROM:-0500
TZOFFSETTO:-0600
TZNAME:CST
DTSTART:20261101T070000
END:STANDARD
BEGIN:DAYLIGHT
TZOFFSETFROM:-0600
TZOFFSETTO:-0500
TZNAME:CDT
DTSTART:20270314T080000
END:DAYLIGHT
BEGIN:STANDARD
TZOFFSETFROM:-0500
TZOFFSETTO:-0600
TZNAME:CST
DTSTART:20271107T070000
END:STANDARD
BEGIN:DAYLIGHT
TZOFFSETFROM:-0600
TZOFFSETTO:-0500
TZNAME:CDT
DTSTART:20280312T080000
END:DAYLIGHT
BEGIN:STANDARD
TZOFFSETFROM:-0500
TZOFFSETTO:-0600
TZNAME:CST
DTSTART:20281105T070000
END:STANDARD
END:VTIMEZONE
BEGIN:VEVENT
DTSTART;TZID=America/Winnipeg:20271002T093000
DTEND;TZID=America/Winnipeg:20271002T101500
DTSTAMP:20260422T181623
CREATED:20260421T201748Z
LAST-MODIFIED:20260421T201748Z
UID:10003379-1822469400-1822472100@creativemanitoba.ca
SUMMARY:Musical Storytime-9:30 am (fall)
DESCRIPTION:We’ll explore various themes each week through singing\, movement\, instrument exploration\, and books. This hands-on group is a fun and engaging place to introduce your child to early musical concepts\, build social connections\, and foster a love for music!
URL:https://creativemanitoba.ca/event/musical-storytime-930-am-fall/2027-10-02/
LOCATION:Manitoba Conservatory of Music & Arts\, 1B01\, Bryce Hall\, 515 Portage Avenue\, Winnipeg\, R3B 2E9\, Canada
CATEGORIES:Children,Classes,Community Events
ATTACH;FMTTYPE=image/jpeg:https://creativemanitoba.ca/wp-content/uploads/2026/04/IMG_5407_online.jpg
ORGANIZER;CN="Manitoba Conservatory of Music &amp%3B Arts":MAILTO:info@mcma.ca
END:VEVENT
BEGIN:VEVENT
DTSTART;TZID=America/Winnipeg:20271009T093000
DTEND;TZID=America/Winnipeg:20271009T101500
DTSTAMP:20260422T181623
CREATED:20260421T201748Z
LAST-MODIFIED:20260421T201748Z
UID:10003380-1823074200-1823076900@creativemanitoba.ca
SUMMARY:Musical Storytime-9:30 am (fall)
DESCRIPTION:We’ll explore various themes each week through singing\, movement\, instrument exploration\, and books. This hands-on group is a fun and engaging place to introduce your child to early musical concepts\, build social connections\, and foster a love for music!
URL:https://creativemanitoba.ca/event/musical-storytime-930-am-fall/2027-10-09/
LOCATION:Manitoba Conservatory of Music & Arts\, 1B01\, Bryce Hall\, 515 Portage Avenue\, Winnipeg\, R3B 2E9\, Canada
CATEGORIES:Children,Classes,Community Events
ATTACH;FMTTYPE=image/jpeg:https://creativemanitoba.ca/wp-content/uploads/2026/04/IMG_5407_online.jpg
ORGANIZER;CN="Manitoba Conservatory of Music &amp%3B Arts":MAILTO:info@mcma.ca
END:VEVENT
BEGIN:VEVENT
DTSTART;TZID=America/Winnipeg:20271016T093000
DTEND;TZID=America/Winnipeg:20271016T101500
DTSTAMP:20260422T181623
CREATED:20260421T201748Z
LAST-MODIFIED:20260421T201748Z
UID:10003381-1823679000-1823681700@creativemanitoba.ca
SUMMARY:Musical Storytime-9:30 am (fall)
DESCRIPTION:We’ll explore various themes each week through singing\, movement\, instrument exploration\, and books. This hands-on group is a fun and engaging place to introduce your child to early musical concepts\, build social connections\, and foster a love for music!
URL:https://creativemanitoba.ca/event/musical-storytime-930-am-fall/2027-10-16/
LOCATION:Manitoba Conservatory of Music & Arts\, 1B01\, Bryce Hall\, 515 Portage Avenue\, Winnipeg\, R3B 2E9\, Canada
CATEGORIES:Children,Classes,Community Events
ATTACH;FMTTYPE=image/jpeg:https://creativemanitoba.ca/wp-content/uploads/2026/04/IMG_5407_online.jpg
ORGANIZER;CN="Manitoba Conservatory of Music &amp%3B Arts":MAILTO:info@mcma.ca
END:VEVENT
BEGIN:VEVENT
DTSTART;TZID=America/Winnipeg:20271023T093000
DTEND;TZID=America/Winnipeg:20271023T101500
DTSTAMP:20260422T181623
CREATED:20260421T201748Z
LAST-MODIFIED:20260421T201748Z
UID:10003382-1824283800-1824286500@creativemanitoba.ca
SUMMARY:Musical Storytime-9:30 am (fall)
DESCRIPTION:We’ll explore various themes each week through singing\, movement\, instrument exploration\, and books. This hands-on group is a fun and engaging place to introduce your child to early musical concepts\, build social connections\, and foster a love for music!
URL:https://creativemanitoba.ca/event/musical-storytime-930-am-fall/2027-10-23/
LOCATION:Manitoba Conservatory of Music & Arts\, 1B01\, Bryce Hall\, 515 Portage Avenue\, Winnipeg\, R3B 2E9\, Canada
CATEGORIES:Children,Classes,Community Events
ATTACH;FMTTYPE=image/jpeg:https://creativemanitoba.ca/wp-content/uploads/2026/04/IMG_5407_online.jpg
ORGANIZER;CN="Manitoba Conservatory of Music &amp%3B Arts":MAILTO:info@mcma.ca
END:VEVENT
BEGIN:VEVENT
DTSTART;TZID=America/Winnipeg:20271030T093000
DTEND;TZID=America/Winnipeg:20271030T101500
DTSTAMP:20260422T181623
CREATED:20260421T201748Z
LAST-MODIFIED:20260421T201748Z
UID:10003383-1824888600-1824891300@creativemanitoba.ca
SUMMARY:Musical Storytime-9:30 am (fall)
DESCRIPTION:We’ll explore various themes each week through singing\, movement\, instrument exploration\, and books. This hands-on group is a fun and engaging place to introduce your child to early musical concepts\, build social connections\, and foster a love for music!
URL:https://creativemanitoba.ca/event/musical-storytime-930-am-fall/2027-10-30/
LOCATION:Manitoba Conservatory of Music & Arts\, 1B01\, Bryce Hall\, 515 Portage Avenue\, Winnipeg\, R3B 2E9\, Canada
CATEGORIES:Children,Classes,Community Events
ATTACH;FMTTYPE=image/jpeg:https://creativemanitoba.ca/wp-content/uploads/2026/04/IMG_5407_online.jpg
ORGANIZER;CN="Manitoba Conservatory of Music &amp%3B Arts":MAILTO:info@mcma.ca
END:VEVENT
BEGIN:VEVENT
DTSTART;TZID=America/Winnipeg:20271106T093000
DTEND;TZID=America/Winnipeg:20271106T101500
DTSTAMP:20260422T181623
CREATED:20260421T201748Z
LAST-MODIFIED:20260421T201748Z
UID:10003384-1825493400-1825496100@creativemanitoba.ca
SUMMARY:Musical Storytime-9:30 am (fall)
DESCRIPTION:We’ll explore various themes each week through singing\, movement\, instrument exploration\, and books. This hands-on group is a fun and engaging place to introduce your child to early musical concepts\, build social connections\, and foster a love for music!
URL:https://creativemanitoba.ca/event/musical-storytime-930-am-fall/2027-11-06/
LOCATION:Manitoba Conservatory of Music & Arts\, 1B01\, Bryce Hall\, 515 Portage Avenue\, Winnipeg\, R3B 2E9\, Canada
CATEGORIES:Children,Classes,Community Events
ATTACH;FMTTYPE=image/jpeg:https://creativemanitoba.ca/wp-content/uploads/2026/04/IMG_5407_online.jpg
ORGANIZER;CN="Manitoba Conservatory of Music &amp%3B Arts":MAILTO:info@mcma.ca
END:VEVENT
BEGIN:VEVENT
DTSTART;TZID=America/Winnipeg:20271113T093000
DTEND;TZID=America/Winnipeg:20271113T101500
DTSTAMP:20260422T181623
CREATED:20260421T201748Z
LAST-MODIFIED:20260421T201748Z
UID:10003385-1826098200-1826100900@creativemanitoba.ca
SUMMARY:Musical Storytime-9:30 am (fall)
DESCRIPTION:We’ll explore various themes each week through singing\, movement\, instrument exploration\, and books. This hands-on group is a fun and engaging place to introduce your child to early musical concepts\, build social connections\, and foster a love for music!
URL:https://creativemanitoba.ca/event/musical-storytime-930-am-fall/2027-11-13/
LOCATION:Manitoba Conservatory of Music & Arts\, 1B01\, Bryce Hall\, 515 Portage Avenue\, Winnipeg\, R3B 2E9\, Canada
CATEGORIES:Children,Classes,Community Events
ATTACH;FMTTYPE=image/jpeg:https://creativemanitoba.ca/wp-content/uploads/2026/04/IMG_5407_online.jpg
ORGANIZER;CN="Manitoba Conservatory of Music &amp%3B Arts":MAILTO:info@mcma.ca
END:VEVENT
BEGIN:VEVENT
DTSTART;TZID=America/Winnipeg:20271120T093000
DTEND;TZID=America/Winnipeg:20271120T101500
DTSTAMP:20260422T181623
CREATED:20260421T201748Z
LAST-MODIFIED:20260421T201748Z
UID:10003386-1826703000-1826705700@creativemanitoba.ca
SUMMARY:Musical Storytime-9:30 am (fall)
DESCRIPTION:We’ll explore various themes each week through singing\, movement\, instrument exploration\, and books. This hands-on group is a fun and engaging place to introduce your child to early musical concepts\, build social connections\, and foster a love for music!
URL:https://creativemanitoba.ca/event/musical-storytime-930-am-fall/2027-11-20/
LOCATION:Manitoba Conservatory of Music & Arts\, 1B01\, Bryce Hall\, 515 Portage Avenue\, Winnipeg\, R3B 2E9\, Canada
CATEGORIES:Children,Classes,Community Events
ATTACH;FMTTYPE=image/jpeg:https://creativemanitoba.ca/wp-content/uploads/2026/04/IMG_5407_online.jpg
ORGANIZER;CN="Manitoba Conservatory of Music &amp%3B Arts":MAILTO:info@mcma.ca
END:VEVENT
BEGIN:VEVENT
DTSTART;TZID=America/Winnipeg:20271127T093000
DTEND;TZID=America/Winnipeg:20271127T101500
DTSTAMP:20260422T181623
CREATED:20260421T201748Z
LAST-MODIFIED:20260421T201748Z
UID:10003387-1827307800-1827310500@creativemanitoba.ca
SUMMARY:Musical Storytime-9:30 am (fall)
DESCRIPTION:We’ll explore various themes each week through singing\, movement\, instrument exploration\, and books. This hands-on group is a fun and engaging place to introduce your child to early musical concepts\, build social connections\, and foster a love for music!
URL:https://creativemanitoba.ca/event/musical-storytime-930-am-fall/2027-11-27/
LOCATION:Manitoba Conservatory of Music & Arts\, 1B01\, Bryce Hall\, 515 Portage Avenue\, Winnipeg\, R3B 2E9\, Canada
CATEGORIES:Children,Classes,Community Events
ATTACH;FMTTYPE=image/jpeg:https://creativemanitoba.ca/wp-content/uploads/2026/04/IMG_5407_online.jpg
ORGANIZER;CN="Manitoba Conservatory of Music &amp%3B Arts":MAILTO:info@mcma.ca
END:VEVENT
BEGIN:VEVENT
DTSTART;TZID=America/Winnipeg:20271204T093000
DTEND;TZID=America/Winnipeg:20271204T101500
DTSTAMP:20260422T181623
CREATED:20260421T201748Z
LAST-MODIFIED:20260421T201748Z
UID:10003388-1827912600-1827915300@creativemanitoba.ca
SUMMARY:Musical Storytime-9:30 am (fall)
DESCRIPTION:We’ll explore various themes each week through singing\, movement\, instrument exploration\, and books. This hands-on group is a fun and engaging place to introduce your child to early musical concepts\, build social connections\, and foster a love for music!
URL:https://creativemanitoba.ca/event/musical-storytime-930-am-fall/2027-12-04/
LOCATION:Manitoba Conservatory of Music & Arts\, 1B01\, Bryce Hall\, 515 Portage Avenue\, Winnipeg\, R3B 2E9\, Canada
CATEGORIES:Children,Classes,Community Events
ATTACH;FMTTYPE=image/jpeg:https://creativemanitoba.ca/wp-content/uploads/2026/04/IMG_5407_online.jpg
ORGANIZER;CN="Manitoba Conservatory of Music &amp%3B Arts":MAILTO:info@mcma.ca
END:VEVENT
END:VCALENDAR