BEGIN:VCALENDAR
VERSION:2.0
PRODID:-//Creative Manitoba - ECPv6.15.18//NONSGML v1.0//EN
CALSCALE:GREGORIAN
METHOD:PUBLISH
X-ORIGINAL-URL:https://creativemanitoba.ca
X-WR-CALDESC:Events for Creative Manitoba
REFRESH-INTERVAL;VALUE=DURATION:PT1H
X-Robots-Tag:noindex
X-PUBLISHED-TTL:PT1H
BEGIN:VTIMEZONE
TZID:America/Winnipeg
BEGIN:DAYLIGHT
TZOFFSETFROM:-0600
TZOFFSETTO:-0500
TZNAME:CDT
DTSTART:20260308T080000
END:DAYLIGHT
BEGIN:STANDARD
TZOFFSETFROM:-0500
TZOFFSETTO:-0600
TZNAME:CST
DTSTART:20261101T070000
END:STANDARD
BEGIN:DAYLIGHT
TZOFFSETFROM:-0600
TZOFFSETTO:-0500
TZNAME:CDT
DTSTART:20270314T080000
END:DAYLIGHT
BEGIN:STANDARD
TZOFFSETFROM:-0500
TZOFFSETTO:-0600
TZNAME:CST
DTSTART:20271107T070000
END:STANDARD
BEGIN:DAYLIGHT
TZOFFSETFROM:-0600
TZOFFSETTO:-0500
TZNAME:CDT
DTSTART:20280312T080000
END:DAYLIGHT
BEGIN:STANDARD
TZOFFSETFROM:-0500
TZOFFSETTO:-0600
TZNAME:CST
DTSTART:20281105T070000
END:STANDARD
END:VTIMEZONE
BEGIN:VEVENT
DTSTART;TZID=America/Winnipeg:20271002T103000
DTEND;TZID=America/Winnipeg:20271002T111500
DTSTAMP:20260422T175828
CREATED:20260421T204533Z
LAST-MODIFIED:20260421T204533Z
UID:10003499-1822473000-1822475700@creativemanitoba.ca
SUMMARY:Adventures in Music-10:30 am (fall)
DESCRIPTION:This un-parented group will use a variety of instruments\, movement songs\, and familiar tunes to create a fun space for connecting and making music. It is a great class for kids who are ready to start learning simple musical skills such as pitch matching\, keeping a steady beat\, and changing tempos.
URL:https://creativemanitoba.ca/event/adventures-in-music-1030-am-fall/2027-10-02/
LOCATION:Manitoba Conservatory of Music & Arts\, 1B01\, Bryce Hall\, 515 Portage Avenue\, Winnipeg\, R3B 2E9\, Canada
CATEGORIES:Children,Classes,Community Events
ATTACH;FMTTYPE=image/jpeg:https://creativemanitoba.ca/wp-content/uploads/2026/04/IMG_5597-2_online.jpg
ORGANIZER;CN="Manitoba Conservatory of Music &amp%3B Arts":MAILTO:info@mcma.ca
END:VEVENT
BEGIN:VEVENT
DTSTART;TZID=America/Winnipeg:20271009T103000
DTEND;TZID=America/Winnipeg:20271009T111500
DTSTAMP:20260422T175828
CREATED:20260421T204533Z
LAST-MODIFIED:20260421T204533Z
UID:10003500-1823077800-1823080500@creativemanitoba.ca
SUMMARY:Adventures in Music-10:30 am (fall)
DESCRIPTION:This un-parented group will use a variety of instruments\, movement songs\, and familiar tunes to create a fun space for connecting and making music. It is a great class for kids who are ready to start learning simple musical skills such as pitch matching\, keeping a steady beat\, and changing tempos.
URL:https://creativemanitoba.ca/event/adventures-in-music-1030-am-fall/2027-10-09/
LOCATION:Manitoba Conservatory of Music & Arts\, 1B01\, Bryce Hall\, 515 Portage Avenue\, Winnipeg\, R3B 2E9\, Canada
CATEGORIES:Children,Classes,Community Events
ATTACH;FMTTYPE=image/jpeg:https://creativemanitoba.ca/wp-content/uploads/2026/04/IMG_5597-2_online.jpg
ORGANIZER;CN="Manitoba Conservatory of Music &amp%3B Arts":MAILTO:info@mcma.ca
END:VEVENT
BEGIN:VEVENT
DTSTART;TZID=America/Winnipeg:20271016T103000
DTEND;TZID=America/Winnipeg:20271016T111500
DTSTAMP:20260422T175828
CREATED:20260421T204533Z
LAST-MODIFIED:20260421T204533Z
UID:10003501-1823682600-1823685300@creativemanitoba.ca
SUMMARY:Adventures in Music-10:30 am (fall)
DESCRIPTION:This un-parented group will use a variety of instruments\, movement songs\, and familiar tunes to create a fun space for connecting and making music. It is a great class for kids who are ready to start learning simple musical skills such as pitch matching\, keeping a steady beat\, and changing tempos.
URL:https://creativemanitoba.ca/event/adventures-in-music-1030-am-fall/2027-10-16/
LOCATION:Manitoba Conservatory of Music & Arts\, 1B01\, Bryce Hall\, 515 Portage Avenue\, Winnipeg\, R3B 2E9\, Canada
CATEGORIES:Children,Classes,Community Events
ATTACH;FMTTYPE=image/jpeg:https://creativemanitoba.ca/wp-content/uploads/2026/04/IMG_5597-2_online.jpg
ORGANIZER;CN="Manitoba Conservatory of Music &amp%3B Arts":MAILTO:info@mcma.ca
END:VEVENT
BEGIN:VEVENT
DTSTART;TZID=America/Winnipeg:20271023T103000
DTEND;TZID=America/Winnipeg:20271023T111500
DTSTAMP:20260422T175828
CREATED:20260421T204533Z
LAST-MODIFIED:20260421T204533Z
UID:10003502-1824287400-1824290100@creativemanitoba.ca
SUMMARY:Adventures in Music-10:30 am (fall)
DESCRIPTION:This un-parented group will use a variety of instruments\, movement songs\, and familiar tunes to create a fun space for connecting and making music. It is a great class for kids who are ready to start learning simple musical skills such as pitch matching\, keeping a steady beat\, and changing tempos.
URL:https://creativemanitoba.ca/event/adventures-in-music-1030-am-fall/2027-10-23/
LOCATION:Manitoba Conservatory of Music & Arts\, 1B01\, Bryce Hall\, 515 Portage Avenue\, Winnipeg\, R3B 2E9\, Canada
CATEGORIES:Children,Classes,Community Events
ATTACH;FMTTYPE=image/jpeg:https://creativemanitoba.ca/wp-content/uploads/2026/04/IMG_5597-2_online.jpg
ORGANIZER;CN="Manitoba Conservatory of Music &amp%3B Arts":MAILTO:info@mcma.ca
END:VEVENT
BEGIN:VEVENT
DTSTART;TZID=America/Winnipeg:20271030T103000
DTEND;TZID=America/Winnipeg:20271030T111500
DTSTAMP:20260422T175828
CREATED:20260421T204533Z
LAST-MODIFIED:20260421T204533Z
UID:10003503-1824892200-1824894900@creativemanitoba.ca
SUMMARY:Adventures in Music-10:30 am (fall)
DESCRIPTION:This un-parented group will use a variety of instruments\, movement songs\, and familiar tunes to create a fun space for connecting and making music. It is a great class for kids who are ready to start learning simple musical skills such as pitch matching\, keeping a steady beat\, and changing tempos.
URL:https://creativemanitoba.ca/event/adventures-in-music-1030-am-fall/2027-10-30/
LOCATION:Manitoba Conservatory of Music & Arts\, 1B01\, Bryce Hall\, 515 Portage Avenue\, Winnipeg\, R3B 2E9\, Canada
CATEGORIES:Children,Classes,Community Events
ATTACH;FMTTYPE=image/jpeg:https://creativemanitoba.ca/wp-content/uploads/2026/04/IMG_5597-2_online.jpg
ORGANIZER;CN="Manitoba Conservatory of Music &amp%3B Arts":MAILTO:info@mcma.ca
END:VEVENT
BEGIN:VEVENT
DTSTART;TZID=America/Winnipeg:20271106T103000
DTEND;TZID=America/Winnipeg:20271106T111500
DTSTAMP:20260422T175828
CREATED:20260421T204533Z
LAST-MODIFIED:20260421T204533Z
UID:10003504-1825497000-1825499700@creativemanitoba.ca
SUMMARY:Adventures in Music-10:30 am (fall)
DESCRIPTION:This un-parented group will use a variety of instruments\, movement songs\, and familiar tunes to create a fun space for connecting and making music. It is a great class for kids who are ready to start learning simple musical skills such as pitch matching\, keeping a steady beat\, and changing tempos.
URL:https://creativemanitoba.ca/event/adventures-in-music-1030-am-fall/2027-11-06/
LOCATION:Manitoba Conservatory of Music & Arts\, 1B01\, Bryce Hall\, 515 Portage Avenue\, Winnipeg\, R3B 2E9\, Canada
CATEGORIES:Children,Classes,Community Events
ATTACH;FMTTYPE=image/jpeg:https://creativemanitoba.ca/wp-content/uploads/2026/04/IMG_5597-2_online.jpg
ORGANIZER;CN="Manitoba Conservatory of Music &amp%3B Arts":MAILTO:info@mcma.ca
END:VEVENT
BEGIN:VEVENT
DTSTART;TZID=America/Winnipeg:20271113T103000
DTEND;TZID=America/Winnipeg:20271113T111500
DTSTAMP:20260422T175828
CREATED:20260421T204533Z
LAST-MODIFIED:20260421T204533Z
UID:10003505-1826101800-1826104500@creativemanitoba.ca
SUMMARY:Adventures in Music-10:30 am (fall)
DESCRIPTION:This un-parented group will use a variety of instruments\, movement songs\, and familiar tunes to create a fun space for connecting and making music. It is a great class for kids who are ready to start learning simple musical skills such as pitch matching\, keeping a steady beat\, and changing tempos.
URL:https://creativemanitoba.ca/event/adventures-in-music-1030-am-fall/2027-11-13/
LOCATION:Manitoba Conservatory of Music & Arts\, 1B01\, Bryce Hall\, 515 Portage Avenue\, Winnipeg\, R3B 2E9\, Canada
CATEGORIES:Children,Classes,Community Events
ATTACH;FMTTYPE=image/jpeg:https://creativemanitoba.ca/wp-content/uploads/2026/04/IMG_5597-2_online.jpg
ORGANIZER;CN="Manitoba Conservatory of Music &amp%3B Arts":MAILTO:info@mcma.ca
END:VEVENT
BEGIN:VEVENT
DTSTART;TZID=America/Winnipeg:20271120T103000
DTEND;TZID=America/Winnipeg:20271120T111500
DTSTAMP:20260422T175828
CREATED:20260421T204533Z
LAST-MODIFIED:20260421T204533Z
UID:10003506-1826706600-1826709300@creativemanitoba.ca
SUMMARY:Adventures in Music-10:30 am (fall)
DESCRIPTION:This un-parented group will use a variety of instruments\, movement songs\, and familiar tunes to create a fun space for connecting and making music. It is a great class for kids who are ready to start learning simple musical skills such as pitch matching\, keeping a steady beat\, and changing tempos.
URL:https://creativemanitoba.ca/event/adventures-in-music-1030-am-fall/2027-11-20/
LOCATION:Manitoba Conservatory of Music & Arts\, 1B01\, Bryce Hall\, 515 Portage Avenue\, Winnipeg\, R3B 2E9\, Canada
CATEGORIES:Children,Classes,Community Events
ATTACH;FMTTYPE=image/jpeg:https://creativemanitoba.ca/wp-content/uploads/2026/04/IMG_5597-2_online.jpg
ORGANIZER;CN="Manitoba Conservatory of Music &amp%3B Arts":MAILTO:info@mcma.ca
END:VEVENT
BEGIN:VEVENT
DTSTART;TZID=America/Winnipeg:20271127T103000
DTEND;TZID=America/Winnipeg:20271127T111500
DTSTAMP:20260422T175828
CREATED:20260421T204533Z
LAST-MODIFIED:20260421T204533Z
UID:10003507-1827311400-1827314100@creativemanitoba.ca
SUMMARY:Adventures in Music-10:30 am (fall)
DESCRIPTION:This un-parented group will use a variety of instruments\, movement songs\, and familiar tunes to create a fun space for connecting and making music. It is a great class for kids who are ready to start learning simple musical skills such as pitch matching\, keeping a steady beat\, and changing tempos.
URL:https://creativemanitoba.ca/event/adventures-in-music-1030-am-fall/2027-11-27/
LOCATION:Manitoba Conservatory of Music & Arts\, 1B01\, Bryce Hall\, 515 Portage Avenue\, Winnipeg\, R3B 2E9\, Canada
CATEGORIES:Children,Classes,Community Events
ATTACH;FMTTYPE=image/jpeg:https://creativemanitoba.ca/wp-content/uploads/2026/04/IMG_5597-2_online.jpg
ORGANIZER;CN="Manitoba Conservatory of Music &amp%3B Arts":MAILTO:info@mcma.ca
END:VEVENT
BEGIN:VEVENT
DTSTART;TZID=America/Winnipeg:20271204T103000
DTEND;TZID=America/Winnipeg:20271204T111500
DTSTAMP:20260422T175828
CREATED:20260421T204533Z
LAST-MODIFIED:20260421T204533Z
UID:10003508-1827916200-1827918900@creativemanitoba.ca
SUMMARY:Adventures in Music-10:30 am (fall)
DESCRIPTION:This un-parented group will use a variety of instruments\, movement songs\, and familiar tunes to create a fun space for connecting and making music. It is a great class for kids who are ready to start learning simple musical skills such as pitch matching\, keeping a steady beat\, and changing tempos.
URL:https://creativemanitoba.ca/event/adventures-in-music-1030-am-fall/2027-12-04/
LOCATION:Manitoba Conservatory of Music & Arts\, 1B01\, Bryce Hall\, 515 Portage Avenue\, Winnipeg\, R3B 2E9\, Canada
CATEGORIES:Children,Classes,Community Events
ATTACH;FMTTYPE=image/jpeg:https://creativemanitoba.ca/wp-content/uploads/2026/04/IMG_5597-2_online.jpg
ORGANIZER;CN="Manitoba Conservatory of Music &amp%3B Arts":MAILTO:info@mcma.ca
END:VEVENT
END:VCALENDAR