BEGIN:VCALENDAR
VERSION:2.0
PRODID:-//Creative Manitoba - ECPv6.15.18//NONSGML v1.0//EN
CALSCALE:GREGORIAN
METHOD:PUBLISH
X-ORIGINAL-URL:https://creativemanitoba.ca
X-WR-CALDESC:Events for Creative Manitoba
REFRESH-INTERVAL;VALUE=DURATION:PT1H
X-Robots-Tag:noindex
X-PUBLISHED-TTL:PT1H
BEGIN:VTIMEZONE
TZID:America/Winnipeg
BEGIN:DAYLIGHT
TZOFFSETFROM:-0600
TZOFFSETTO:-0500
TZNAME:CDT
DTSTART:20260308T080000
END:DAYLIGHT
BEGIN:STANDARD
TZOFFSETFROM:-0500
TZOFFSETTO:-0600
TZNAME:CST
DTSTART:20261101T070000
END:STANDARD
BEGIN:DAYLIGHT
TZOFFSETFROM:-0600
TZOFFSETTO:-0500
TZNAME:CDT
DTSTART:20270314T080000
END:DAYLIGHT
BEGIN:STANDARD
TZOFFSETFROM:-0500
TZOFFSETTO:-0600
TZNAME:CST
DTSTART:20271107T070000
END:STANDARD
BEGIN:DAYLIGHT
TZOFFSETFROM:-0600
TZOFFSETTO:-0500
TZNAME:CDT
DTSTART:20280312T080000
END:DAYLIGHT
BEGIN:STANDARD
TZOFFSETFROM:-0500
TZOFFSETTO:-0600
TZNAME:CST
DTSTART:20281105T070000
END:STANDARD
END:VTIMEZONE
BEGIN:VEVENT
DTSTART;TZID=America/Winnipeg:20271002T123000
DTEND;TZID=America/Winnipeg:20271002T131500
DTSTAMP:20260422T164827
CREATED:20260421T210555Z
LAST-MODIFIED:20260421T210555Z
UID:10003559-1822480200-1822482900@creativemanitoba.ca
SUMMARY:Adventures in Music-12:30 pm (fall)
DESCRIPTION:This un-parented group will use a variety of instruments\, movement songs\, and familiar tunes to create a fun space for connecting and making music. It is a great class for kids who are ready to start learning simple musical skills such as pitch matching\, keeping a steady beat\, and changing tempos.
URL:https://creativemanitoba.ca/event/adventures-in-music-1230-pm-fall/2027-10-02/
LOCATION:Manitoba Conservatory of Music & Arts\, 1B01\, Bryce Hall\, 515 Portage Avenue\, Winnipeg\, R3B 2E9\, Canada
CATEGORIES:Children,Classes,Community Events
ATTACH;FMTTYPE=image/jpeg:https://creativemanitoba.ca/wp-content/uploads/2026/04/IMG_5564_online.jpg
ORGANIZER;CN="Manitoba Conservatory of Music &amp%3B Arts":MAILTO:info@mcma.ca
END:VEVENT
BEGIN:VEVENT
DTSTART;TZID=America/Winnipeg:20271009T123000
DTEND;TZID=America/Winnipeg:20271009T131500
DTSTAMP:20260422T164827
CREATED:20260421T210555Z
LAST-MODIFIED:20260421T210555Z
UID:10003560-1823085000-1823087700@creativemanitoba.ca
SUMMARY:Adventures in Music-12:30 pm (fall)
DESCRIPTION:This un-parented group will use a variety of instruments\, movement songs\, and familiar tunes to create a fun space for connecting and making music. It is a great class for kids who are ready to start learning simple musical skills such as pitch matching\, keeping a steady beat\, and changing tempos.
URL:https://creativemanitoba.ca/event/adventures-in-music-1230-pm-fall/2027-10-09/
LOCATION:Manitoba Conservatory of Music & Arts\, 1B01\, Bryce Hall\, 515 Portage Avenue\, Winnipeg\, R3B 2E9\, Canada
CATEGORIES:Children,Classes,Community Events
ATTACH;FMTTYPE=image/jpeg:https://creativemanitoba.ca/wp-content/uploads/2026/04/IMG_5564_online.jpg
ORGANIZER;CN="Manitoba Conservatory of Music &amp%3B Arts":MAILTO:info@mcma.ca
END:VEVENT
BEGIN:VEVENT
DTSTART;TZID=America/Winnipeg:20271016T123000
DTEND;TZID=America/Winnipeg:20271016T131500
DTSTAMP:20260422T164827
CREATED:20260421T210555Z
LAST-MODIFIED:20260421T210555Z
UID:10003561-1823689800-1823692500@creativemanitoba.ca
SUMMARY:Adventures in Music-12:30 pm (fall)
DESCRIPTION:This un-parented group will use a variety of instruments\, movement songs\, and familiar tunes to create a fun space for connecting and making music. It is a great class for kids who are ready to start learning simple musical skills such as pitch matching\, keeping a steady beat\, and changing tempos.
URL:https://creativemanitoba.ca/event/adventures-in-music-1230-pm-fall/2027-10-16/
LOCATION:Manitoba Conservatory of Music & Arts\, 1B01\, Bryce Hall\, 515 Portage Avenue\, Winnipeg\, R3B 2E9\, Canada
CATEGORIES:Children,Classes,Community Events
ATTACH;FMTTYPE=image/jpeg:https://creativemanitoba.ca/wp-content/uploads/2026/04/IMG_5564_online.jpg
ORGANIZER;CN="Manitoba Conservatory of Music &amp%3B Arts":MAILTO:info@mcma.ca
END:VEVENT
BEGIN:VEVENT
DTSTART;TZID=America/Winnipeg:20271023T123000
DTEND;TZID=America/Winnipeg:20271023T131500
DTSTAMP:20260422T164827
CREATED:20260421T210555Z
LAST-MODIFIED:20260421T210555Z
UID:10003562-1824294600-1824297300@creativemanitoba.ca
SUMMARY:Adventures in Music-12:30 pm (fall)
DESCRIPTION:This un-parented group will use a variety of instruments\, movement songs\, and familiar tunes to create a fun space for connecting and making music. It is a great class for kids who are ready to start learning simple musical skills such as pitch matching\, keeping a steady beat\, and changing tempos.
URL:https://creativemanitoba.ca/event/adventures-in-music-1230-pm-fall/2027-10-23/
LOCATION:Manitoba Conservatory of Music & Arts\, 1B01\, Bryce Hall\, 515 Portage Avenue\, Winnipeg\, R3B 2E9\, Canada
CATEGORIES:Children,Classes,Community Events
ATTACH;FMTTYPE=image/jpeg:https://creativemanitoba.ca/wp-content/uploads/2026/04/IMG_5564_online.jpg
ORGANIZER;CN="Manitoba Conservatory of Music &amp%3B Arts":MAILTO:info@mcma.ca
END:VEVENT
BEGIN:VEVENT
DTSTART;TZID=America/Winnipeg:20271030T123000
DTEND;TZID=America/Winnipeg:20271030T131500
DTSTAMP:20260422T164827
CREATED:20260421T210555Z
LAST-MODIFIED:20260421T210555Z
UID:10003563-1824899400-1824902100@creativemanitoba.ca
SUMMARY:Adventures in Music-12:30 pm (fall)
DESCRIPTION:This un-parented group will use a variety of instruments\, movement songs\, and familiar tunes to create a fun space for connecting and making music. It is a great class for kids who are ready to start learning simple musical skills such as pitch matching\, keeping a steady beat\, and changing tempos.
URL:https://creativemanitoba.ca/event/adventures-in-music-1230-pm-fall/2027-10-30/
LOCATION:Manitoba Conservatory of Music & Arts\, 1B01\, Bryce Hall\, 515 Portage Avenue\, Winnipeg\, R3B 2E9\, Canada
CATEGORIES:Children,Classes,Community Events
ATTACH;FMTTYPE=image/jpeg:https://creativemanitoba.ca/wp-content/uploads/2026/04/IMG_5564_online.jpg
ORGANIZER;CN="Manitoba Conservatory of Music &amp%3B Arts":MAILTO:info@mcma.ca
END:VEVENT
BEGIN:VEVENT
DTSTART;TZID=America/Winnipeg:20271106T123000
DTEND;TZID=America/Winnipeg:20271106T131500
DTSTAMP:20260422T164827
CREATED:20260421T210555Z
LAST-MODIFIED:20260421T210555Z
UID:10003564-1825504200-1825506900@creativemanitoba.ca
SUMMARY:Adventures in Music-12:30 pm (fall)
DESCRIPTION:This un-parented group will use a variety of instruments\, movement songs\, and familiar tunes to create a fun space for connecting and making music. It is a great class for kids who are ready to start learning simple musical skills such as pitch matching\, keeping a steady beat\, and changing tempos.
URL:https://creativemanitoba.ca/event/adventures-in-music-1230-pm-fall/2027-11-06/
LOCATION:Manitoba Conservatory of Music & Arts\, 1B01\, Bryce Hall\, 515 Portage Avenue\, Winnipeg\, R3B 2E9\, Canada
CATEGORIES:Children,Classes,Community Events
ATTACH;FMTTYPE=image/jpeg:https://creativemanitoba.ca/wp-content/uploads/2026/04/IMG_5564_online.jpg
ORGANIZER;CN="Manitoba Conservatory of Music &amp%3B Arts":MAILTO:info@mcma.ca
END:VEVENT
BEGIN:VEVENT
DTSTART;TZID=America/Winnipeg:20271113T123000
DTEND;TZID=America/Winnipeg:20271113T131500
DTSTAMP:20260422T164827
CREATED:20260421T210555Z
LAST-MODIFIED:20260421T210555Z
UID:10003565-1826109000-1826111700@creativemanitoba.ca
SUMMARY:Adventures in Music-12:30 pm (fall)
DESCRIPTION:This un-parented group will use a variety of instruments\, movement songs\, and familiar tunes to create a fun space for connecting and making music. It is a great class for kids who are ready to start learning simple musical skills such as pitch matching\, keeping a steady beat\, and changing tempos.
URL:https://creativemanitoba.ca/event/adventures-in-music-1230-pm-fall/2027-11-13/
LOCATION:Manitoba Conservatory of Music & Arts\, 1B01\, Bryce Hall\, 515 Portage Avenue\, Winnipeg\, R3B 2E9\, Canada
CATEGORIES:Children,Classes,Community Events
ATTACH;FMTTYPE=image/jpeg:https://creativemanitoba.ca/wp-content/uploads/2026/04/IMG_5564_online.jpg
ORGANIZER;CN="Manitoba Conservatory of Music &amp%3B Arts":MAILTO:info@mcma.ca
END:VEVENT
BEGIN:VEVENT
DTSTART;TZID=America/Winnipeg:20271120T123000
DTEND;TZID=America/Winnipeg:20271120T131500
DTSTAMP:20260422T164827
CREATED:20260421T210555Z
LAST-MODIFIED:20260421T210555Z
UID:10003566-1826713800-1826716500@creativemanitoba.ca
SUMMARY:Adventures in Music-12:30 pm (fall)
DESCRIPTION:This un-parented group will use a variety of instruments\, movement songs\, and familiar tunes to create a fun space for connecting and making music. It is a great class for kids who are ready to start learning simple musical skills such as pitch matching\, keeping a steady beat\, and changing tempos.
URL:https://creativemanitoba.ca/event/adventures-in-music-1230-pm-fall/2027-11-20/
LOCATION:Manitoba Conservatory of Music & Arts\, 1B01\, Bryce Hall\, 515 Portage Avenue\, Winnipeg\, R3B 2E9\, Canada
CATEGORIES:Children,Classes,Community Events
ATTACH;FMTTYPE=image/jpeg:https://creativemanitoba.ca/wp-content/uploads/2026/04/IMG_5564_online.jpg
ORGANIZER;CN="Manitoba Conservatory of Music &amp%3B Arts":MAILTO:info@mcma.ca
END:VEVENT
BEGIN:VEVENT
DTSTART;TZID=America/Winnipeg:20271127T123000
DTEND;TZID=America/Winnipeg:20271127T131500
DTSTAMP:20260422T164827
CREATED:20260421T210555Z
LAST-MODIFIED:20260421T210555Z
UID:10003567-1827318600-1827321300@creativemanitoba.ca
SUMMARY:Adventures in Music-12:30 pm (fall)
DESCRIPTION:This un-parented group will use a variety of instruments\, movement songs\, and familiar tunes to create a fun space for connecting and making music. It is a great class for kids who are ready to start learning simple musical skills such as pitch matching\, keeping a steady beat\, and changing tempos.
URL:https://creativemanitoba.ca/event/adventures-in-music-1230-pm-fall/2027-11-27/
LOCATION:Manitoba Conservatory of Music & Arts\, 1B01\, Bryce Hall\, 515 Portage Avenue\, Winnipeg\, R3B 2E9\, Canada
CATEGORIES:Children,Classes,Community Events
ATTACH;FMTTYPE=image/jpeg:https://creativemanitoba.ca/wp-content/uploads/2026/04/IMG_5564_online.jpg
ORGANIZER;CN="Manitoba Conservatory of Music &amp%3B Arts":MAILTO:info@mcma.ca
END:VEVENT
BEGIN:VEVENT
DTSTART;TZID=America/Winnipeg:20271204T123000
DTEND;TZID=America/Winnipeg:20271204T131500
DTSTAMP:20260422T164827
CREATED:20260421T210555Z
LAST-MODIFIED:20260421T210555Z
UID:10003568-1827923400-1827926100@creativemanitoba.ca
SUMMARY:Adventures in Music-12:30 pm (fall)
DESCRIPTION:This un-parented group will use a variety of instruments\, movement songs\, and familiar tunes to create a fun space for connecting and making music. It is a great class for kids who are ready to start learning simple musical skills such as pitch matching\, keeping a steady beat\, and changing tempos.
URL:https://creativemanitoba.ca/event/adventures-in-music-1230-pm-fall/2027-12-04/
LOCATION:Manitoba Conservatory of Music & Arts\, 1B01\, Bryce Hall\, 515 Portage Avenue\, Winnipeg\, R3B 2E9\, Canada
CATEGORIES:Children,Classes,Community Events
ATTACH;FMTTYPE=image/jpeg:https://creativemanitoba.ca/wp-content/uploads/2026/04/IMG_5564_online.jpg
ORGANIZER;CN="Manitoba Conservatory of Music &amp%3B Arts":MAILTO:info@mcma.ca
END:VEVENT
END:VCALENDAR