BEGIN:VCALENDAR
VERSION:2.0
PRODID:-//Creative Manitoba - ECPv6.15.18//NONSGML v1.0//EN
CALSCALE:GREGORIAN
METHOD:PUBLISH
X-ORIGINAL-URL:https://creativemanitoba.ca
X-WR-CALDESC:Events for Creative Manitoba
REFRESH-INTERVAL;VALUE=DURATION:PT1H
X-Robots-Tag:noindex
X-PUBLISHED-TTL:PT1H
BEGIN:VTIMEZONE
TZID:America/Winnipeg
BEGIN:DAYLIGHT
TZOFFSETFROM:-0600
TZOFFSETTO:-0500
TZNAME:CDT
DTSTART:20260308T080000
END:DAYLIGHT
BEGIN:STANDARD
TZOFFSETFROM:-0500
TZOFFSETTO:-0600
TZNAME:CST
DTSTART:20261101T070000
END:STANDARD
BEGIN:DAYLIGHT
TZOFFSETFROM:-0600
TZOFFSETTO:-0500
TZNAME:CDT
DTSTART:20270314T080000
END:DAYLIGHT
BEGIN:STANDARD
TZOFFSETFROM:-0500
TZOFFSETTO:-0600
TZNAME:CST
DTSTART:20271107T070000
END:STANDARD
BEGIN:DAYLIGHT
TZOFFSETFROM:-0600
TZOFFSETTO:-0500
TZNAME:CDT
DTSTART:20280312T080000
END:DAYLIGHT
BEGIN:STANDARD
TZOFFSETFROM:-0500
TZOFFSETTO:-0600
TZNAME:CST
DTSTART:20281105T070000
END:STANDARD
END:VTIMEZONE
BEGIN:VEVENT
DTSTART;TZID=America/Winnipeg:20271003T143000
DTEND;TZID=America/Winnipeg:20271003T151500
DTSTAMP:20260423T001408
CREATED:20260422T154641Z
LAST-MODIFIED:20260422T154641Z
UID:10003679-1822573800-1822576500@creativemanitoba.ca
SUMMARY:Baby Beats MCMA location-2:30 pm (fall)
DESCRIPTION:Baby Beats is a parented early childhood music program for babies 0-2 that focuses on musical foundations and social skill development. Babies gain fine and gross motor skills\, learn how to wait their turn\, discover tempo and rhythm by dancing and playing with scarves or body percussion\, match pitch and find joy in musical storytelling.
URL:https://creativemanitoba.ca/event/baby-beats-mcma-location-230-pm-fall/2027-10-03/
LOCATION:Manitoba Conservatory of Music & Arts\, 1B01\, Bryce Hall\, 515 Portage Avenue\, Winnipeg\, R3B 2E9\, Canada
CATEGORIES:Children,Classes,Community Events
ATTACH;FMTTYPE=image/jpeg:https://creativemanitoba.ca/wp-content/uploads/2026/04/IMG_7314_online.jpg
ORGANIZER;CN="Manitoba Conservatory of Music &amp%3B Arts":MAILTO:info@mcma.ca
END:VEVENT
BEGIN:VEVENT
DTSTART;TZID=America/Winnipeg:20271010T143000
DTEND;TZID=America/Winnipeg:20271010T151500
DTSTAMP:20260423T001408
CREATED:20260422T154641Z
LAST-MODIFIED:20260422T154641Z
UID:10003680-1823178600-1823181300@creativemanitoba.ca
SUMMARY:Baby Beats MCMA location-2:30 pm (fall)
DESCRIPTION:Baby Beats is a parented early childhood music program for babies 0-2 that focuses on musical foundations and social skill development. Babies gain fine and gross motor skills\, learn how to wait their turn\, discover tempo and rhythm by dancing and playing with scarves or body percussion\, match pitch and find joy in musical storytelling.
URL:https://creativemanitoba.ca/event/baby-beats-mcma-location-230-pm-fall/2027-10-10/
LOCATION:Manitoba Conservatory of Music & Arts\, 1B01\, Bryce Hall\, 515 Portage Avenue\, Winnipeg\, R3B 2E9\, Canada
CATEGORIES:Children,Classes,Community Events
ATTACH;FMTTYPE=image/jpeg:https://creativemanitoba.ca/wp-content/uploads/2026/04/IMG_7314_online.jpg
ORGANIZER;CN="Manitoba Conservatory of Music &amp%3B Arts":MAILTO:info@mcma.ca
END:VEVENT
BEGIN:VEVENT
DTSTART;TZID=America/Winnipeg:20271017T143000
DTEND;TZID=America/Winnipeg:20271017T151500
DTSTAMP:20260423T001408
CREATED:20260422T154641Z
LAST-MODIFIED:20260422T154641Z
UID:10003681-1823783400-1823786100@creativemanitoba.ca
SUMMARY:Baby Beats MCMA location-2:30 pm (fall)
DESCRIPTION:Baby Beats is a parented early childhood music program for babies 0-2 that focuses on musical foundations and social skill development. Babies gain fine and gross motor skills\, learn how to wait their turn\, discover tempo and rhythm by dancing and playing with scarves or body percussion\, match pitch and find joy in musical storytelling.
URL:https://creativemanitoba.ca/event/baby-beats-mcma-location-230-pm-fall/2027-10-17/
LOCATION:Manitoba Conservatory of Music & Arts\, 1B01\, Bryce Hall\, 515 Portage Avenue\, Winnipeg\, R3B 2E9\, Canada
CATEGORIES:Children,Classes,Community Events
ATTACH;FMTTYPE=image/jpeg:https://creativemanitoba.ca/wp-content/uploads/2026/04/IMG_7314_online.jpg
ORGANIZER;CN="Manitoba Conservatory of Music &amp%3B Arts":MAILTO:info@mcma.ca
END:VEVENT
BEGIN:VEVENT
DTSTART;TZID=America/Winnipeg:20271024T143000
DTEND;TZID=America/Winnipeg:20271024T151500
DTSTAMP:20260423T001408
CREATED:20260422T154641Z
LAST-MODIFIED:20260422T154641Z
UID:10003682-1824388200-1824390900@creativemanitoba.ca
SUMMARY:Baby Beats MCMA location-2:30 pm (fall)
DESCRIPTION:Baby Beats is a parented early childhood music program for babies 0-2 that focuses on musical foundations and social skill development. Babies gain fine and gross motor skills\, learn how to wait their turn\, discover tempo and rhythm by dancing and playing with scarves or body percussion\, match pitch and find joy in musical storytelling.
URL:https://creativemanitoba.ca/event/baby-beats-mcma-location-230-pm-fall/2027-10-24/
LOCATION:Manitoba Conservatory of Music & Arts\, 1B01\, Bryce Hall\, 515 Portage Avenue\, Winnipeg\, R3B 2E9\, Canada
CATEGORIES:Children,Classes,Community Events
ATTACH;FMTTYPE=image/jpeg:https://creativemanitoba.ca/wp-content/uploads/2026/04/IMG_7314_online.jpg
ORGANIZER;CN="Manitoba Conservatory of Music &amp%3B Arts":MAILTO:info@mcma.ca
END:VEVENT
BEGIN:VEVENT
DTSTART;TZID=America/Winnipeg:20271031T143000
DTEND;TZID=America/Winnipeg:20271031T151500
DTSTAMP:20260423T001408
CREATED:20260422T154641Z
LAST-MODIFIED:20260422T154641Z
UID:10003683-1824993000-1824995700@creativemanitoba.ca
SUMMARY:Baby Beats MCMA location-2:30 pm (fall)
DESCRIPTION:Baby Beats is a parented early childhood music program for babies 0-2 that focuses on musical foundations and social skill development. Babies gain fine and gross motor skills\, learn how to wait their turn\, discover tempo and rhythm by dancing and playing with scarves or body percussion\, match pitch and find joy in musical storytelling.
URL:https://creativemanitoba.ca/event/baby-beats-mcma-location-230-pm-fall/2027-10-31/
LOCATION:Manitoba Conservatory of Music & Arts\, 1B01\, Bryce Hall\, 515 Portage Avenue\, Winnipeg\, R3B 2E9\, Canada
CATEGORIES:Children,Classes,Community Events
ATTACH;FMTTYPE=image/jpeg:https://creativemanitoba.ca/wp-content/uploads/2026/04/IMG_7314_online.jpg
ORGANIZER;CN="Manitoba Conservatory of Music &amp%3B Arts":MAILTO:info@mcma.ca
END:VEVENT
BEGIN:VEVENT
DTSTART;TZID=America/Winnipeg:20271107T143000
DTEND;TZID=America/Winnipeg:20271107T151500
DTSTAMP:20260423T001408
CREATED:20260422T154641Z
LAST-MODIFIED:20260422T154641Z
UID:10003684-1825597800-1825600500@creativemanitoba.ca
SUMMARY:Baby Beats MCMA location-2:30 pm (fall)
DESCRIPTION:Baby Beats is a parented early childhood music program for babies 0-2 that focuses on musical foundations and social skill development. Babies gain fine and gross motor skills\, learn how to wait their turn\, discover tempo and rhythm by dancing and playing with scarves or body percussion\, match pitch and find joy in musical storytelling.
URL:https://creativemanitoba.ca/event/baby-beats-mcma-location-230-pm-fall/2027-11-07/
LOCATION:Manitoba Conservatory of Music & Arts\, 1B01\, Bryce Hall\, 515 Portage Avenue\, Winnipeg\, R3B 2E9\, Canada
CATEGORIES:Children,Classes,Community Events
ATTACH;FMTTYPE=image/jpeg:https://creativemanitoba.ca/wp-content/uploads/2026/04/IMG_7314_online.jpg
ORGANIZER;CN="Manitoba Conservatory of Music &amp%3B Arts":MAILTO:info@mcma.ca
END:VEVENT
BEGIN:VEVENT
DTSTART;TZID=America/Winnipeg:20271114T143000
DTEND;TZID=America/Winnipeg:20271114T151500
DTSTAMP:20260423T001408
CREATED:20260422T154641Z
LAST-MODIFIED:20260422T154641Z
UID:10003685-1826202600-1826205300@creativemanitoba.ca
SUMMARY:Baby Beats MCMA location-2:30 pm (fall)
DESCRIPTION:Baby Beats is a parented early childhood music program for babies 0-2 that focuses on musical foundations and social skill development. Babies gain fine and gross motor skills\, learn how to wait their turn\, discover tempo and rhythm by dancing and playing with scarves or body percussion\, match pitch and find joy in musical storytelling.
URL:https://creativemanitoba.ca/event/baby-beats-mcma-location-230-pm-fall/2027-11-14/
LOCATION:Manitoba Conservatory of Music & Arts\, 1B01\, Bryce Hall\, 515 Portage Avenue\, Winnipeg\, R3B 2E9\, Canada
CATEGORIES:Children,Classes,Community Events
ATTACH;FMTTYPE=image/jpeg:https://creativemanitoba.ca/wp-content/uploads/2026/04/IMG_7314_online.jpg
ORGANIZER;CN="Manitoba Conservatory of Music &amp%3B Arts":MAILTO:info@mcma.ca
END:VEVENT
BEGIN:VEVENT
DTSTART;TZID=America/Winnipeg:20271121T143000
DTEND;TZID=America/Winnipeg:20271121T151500
DTSTAMP:20260423T001408
CREATED:20260422T154641Z
LAST-MODIFIED:20260422T154641Z
UID:10003686-1826807400-1826810100@creativemanitoba.ca
SUMMARY:Baby Beats MCMA location-2:30 pm (fall)
DESCRIPTION:Baby Beats is a parented early childhood music program for babies 0-2 that focuses on musical foundations and social skill development. Babies gain fine and gross motor skills\, learn how to wait their turn\, discover tempo and rhythm by dancing and playing with scarves or body percussion\, match pitch and find joy in musical storytelling.
URL:https://creativemanitoba.ca/event/baby-beats-mcma-location-230-pm-fall/2027-11-21/
LOCATION:Manitoba Conservatory of Music & Arts\, 1B01\, Bryce Hall\, 515 Portage Avenue\, Winnipeg\, R3B 2E9\, Canada
CATEGORIES:Children,Classes,Community Events
ATTACH;FMTTYPE=image/jpeg:https://creativemanitoba.ca/wp-content/uploads/2026/04/IMG_7314_online.jpg
ORGANIZER;CN="Manitoba Conservatory of Music &amp%3B Arts":MAILTO:info@mcma.ca
END:VEVENT
BEGIN:VEVENT
DTSTART;TZID=America/Winnipeg:20271128T143000
DTEND;TZID=America/Winnipeg:20271128T151500
DTSTAMP:20260423T001408
CREATED:20260422T154641Z
LAST-MODIFIED:20260422T154641Z
UID:10003687-1827412200-1827414900@creativemanitoba.ca
SUMMARY:Baby Beats MCMA location-2:30 pm (fall)
DESCRIPTION:Baby Beats is a parented early childhood music program for babies 0-2 that focuses on musical foundations and social skill development. Babies gain fine and gross motor skills\, learn how to wait their turn\, discover tempo and rhythm by dancing and playing with scarves or body percussion\, match pitch and find joy in musical storytelling.
URL:https://creativemanitoba.ca/event/baby-beats-mcma-location-230-pm-fall/2027-11-28/
LOCATION:Manitoba Conservatory of Music & Arts\, 1B01\, Bryce Hall\, 515 Portage Avenue\, Winnipeg\, R3B 2E9\, Canada
CATEGORIES:Children,Classes,Community Events
ATTACH;FMTTYPE=image/jpeg:https://creativemanitoba.ca/wp-content/uploads/2026/04/IMG_7314_online.jpg
ORGANIZER;CN="Manitoba Conservatory of Music &amp%3B Arts":MAILTO:info@mcma.ca
END:VEVENT
BEGIN:VEVENT
DTSTART;TZID=America/Winnipeg:20271205T143000
DTEND;TZID=America/Winnipeg:20271205T151500
DTSTAMP:20260423T001408
CREATED:20260422T154641Z
LAST-MODIFIED:20260422T154641Z
UID:10003688-1828017000-1828019700@creativemanitoba.ca
SUMMARY:Baby Beats MCMA location-2:30 pm (fall)
DESCRIPTION:Baby Beats is a parented early childhood music program for babies 0-2 that focuses on musical foundations and social skill development. Babies gain fine and gross motor skills\, learn how to wait their turn\, discover tempo and rhythm by dancing and playing with scarves or body percussion\, match pitch and find joy in musical storytelling.
URL:https://creativemanitoba.ca/event/baby-beats-mcma-location-230-pm-fall/2027-12-05/
LOCATION:Manitoba Conservatory of Music & Arts\, 1B01\, Bryce Hall\, 515 Portage Avenue\, Winnipeg\, R3B 2E9\, Canada
CATEGORIES:Children,Classes,Community Events
ATTACH;FMTTYPE=image/jpeg:https://creativemanitoba.ca/wp-content/uploads/2026/04/IMG_7314_online.jpg
ORGANIZER;CN="Manitoba Conservatory of Music &amp%3B Arts":MAILTO:info@mcma.ca
END:VEVENT
END:VCALENDAR